BEGIN:VCALENDAR
VERSION:2.0
PRODID:-//Bethia United Methodist Church - ECPv6.15.20//NONSGML v1.0//EN
CALSCALE:GREGORIAN
METHOD:PUBLISH
X-ORIGINAL-URL:https://www.bethiaumc.org
X-WR-CALDESC:Events for Bethia United Methodist Church
REFRESH-INTERVAL;VALUE=DURATION:PT1H
X-Robots-Tag:noindex
X-PUBLISHED-TTL:PT1H
BEGIN:VTIMEZONE
TZID:America/New_York
BEGIN:DAYLIGHT
TZOFFSETFROM:-0500
TZOFFSETTO:-0400
TZNAME:EDT
DTSTART:20240310T070000
END:DAYLIGHT
BEGIN:STANDARD
TZOFFSETFROM:-0400
TZOFFSETTO:-0500
TZNAME:EST
DTSTART:20241103T060000
END:STANDARD
BEGIN:DAYLIGHT
TZOFFSETFROM:-0500
TZOFFSETTO:-0400
TZNAME:EDT
DTSTART:20250309T070000
END:DAYLIGHT
BEGIN:STANDARD
TZOFFSETFROM:-0400
TZOFFSETTO:-0500
TZNAME:EST
DTSTART:20251102T060000
END:STANDARD
BEGIN:DAYLIGHT
TZOFFSETFROM:-0500
TZOFFSETTO:-0400
TZNAME:EDT
DTSTART:20260308T070000
END:DAYLIGHT
BEGIN:STANDARD
TZOFFSETFROM:-0400
TZOFFSETTO:-0500
TZNAME:EST
DTSTART:20261101T060000
END:STANDARD
BEGIN:DAYLIGHT
TZOFFSETFROM:-0500
TZOFFSETTO:-0400
TZNAME:EDT
DTSTART:20270314T070000
END:DAYLIGHT
BEGIN:STANDARD
TZOFFSETFROM:-0400
TZOFFSETTO:-0500
TZNAME:EST
DTSTART:20271107T060000
END:STANDARD
END:VTIMEZONE
BEGIN:VEVENT
DTSTART;TZID=America/New_York:20260328T110000
DTEND;TZID=America/New_York:20260328T130000
DTSTAMP:20260423T152736
CREATED:20260219T033900Z
LAST-MODIFIED:20260310T073917Z
UID:10003506-1774695600-1774702800@www.bethiaumc.org
SUMMARY:Clover Hill Martinez Basketball / In Person / SEED Hall
DESCRIPTION:
URL:https://www.bethiaumc.org/event/clover-hill-martinez-basketball-in-person-seed-hall-19/
LOCATION:10700 Winterpock Rd\, Chesterfield\, VA\, United States
GEO:37.392683;-77.605362
END:VEVENT
BEGIN:VEVENT
DTSTART;TZID=America/New_York:20260327T173000
DTEND;TZID=America/New_York:20260327T203000
DTSTAMP:20260423T152736
CREATED:20260121T230652Z
LAST-MODIFIED:20260327T103514Z
UID:10003370-1774632600-1774643400@www.bethiaumc.org
SUMMARY:Focus Sports League / In Person / SEED Hall
DESCRIPTION:
URL:https://www.bethiaumc.org/event/focus-sports-league-in-person-seed-hall-11/
LOCATION:10700 Winterpock Rd\, Chesterfield\, VA\, United States
GEO:37.392683;-77.605362
END:VEVENT
BEGIN:VEVENT
DTSTART;TZID=America/New_York:20260327T080000
DTEND;TZID=America/New_York:20260327T130000
DTSTAMP:20260423T152736
CREATED:20260121T230652Z
LAST-MODIFIED:20260327T103514Z
UID:10003369-1774598400-1774616400@www.bethiaumc.org
SUMMARY:Cedar Woods Montessori School / In Person / Room 219
DESCRIPTION:
URL:https://www.bethiaumc.org/event/cedar-woods-montessori-school-in-person-room-219-56/
LOCATION:10700 Winterpock Rd\, Chesterfield\, VA\, United States
GEO:37.392683;-77.605362
END:VEVENT
BEGIN:VEVENT
DTSTART;TZID=America/New_York:20260327T080000
DTEND;TZID=America/New_York:20260327T113000
DTSTAMP:20260423T152736
CREATED:20260121T230652Z
LAST-MODIFIED:20260327T103514Z
UID:10003368-1774598400-1774611000@www.bethiaumc.org
SUMMARY:Pickleball / In Person / SEED Hall
DESCRIPTION:
URL:https://www.bethiaumc.org/event/pickleball-in-person-seed-hall-364/
LOCATION:10700 Winterpock Rd\, Chesterfield\, VA\, United States
GEO:37.392683;-77.605362
END:VEVENT
BEGIN:VEVENT
DTSTART;TZID=America/New_York:20260326T173000
DTEND;TZID=America/New_York:20260326T203000
DTSTAMP:20260423T152736
CREATED:20260121T230652Z
LAST-MODIFIED:20260326T102415Z
UID:10003367-1774546200-1774557000@www.bethiaumc.org
SUMMARY:Focus Sports / In Person / SEED Hall
DESCRIPTION:
URL:https://www.bethiaumc.org/event/focus-sports-in-person-seed-hall-296/
LOCATION:10700 Winterpock Rd\, Chesterfield\, VA\, United States
GEO:37.392683;-77.605362
END:VEVENT
BEGIN:VEVENT
DTSTART;TZID=America/New_York:20260326T093000
DTEND;TZID=America/New_York:20260326T113000
DTSTAMP:20260423T152736
CREATED:20260120T230656Z
LAST-MODIFIED:20260326T102415Z
UID:10003366-1774517400-1774524600@www.bethiaumc.org
SUMMARY:Bible Study / In Person / Room 103
DESCRIPTION:
URL:https://www.bethiaumc.org/event/bible-study-in-person-room-103-113/
LOCATION:10700 Winterpock Rd\, Chesterfield\, VA\, United States
GEO:37.392683;-77.605362
END:VEVENT
BEGIN:VEVENT
DTSTART;TZID=America/New_York:20260326T080000
DTEND;TZID=America/New_York:20260326T130000
DTSTAMP:20260423T152736
CREATED:20260120T230655Z
LAST-MODIFIED:20260326T102414Z
UID:10003365-1774512000-1774530000@www.bethiaumc.org
SUMMARY:Cedar Woods Montessori School / In Person / Room 219
DESCRIPTION:
URL:https://www.bethiaumc.org/event/cedar-woods-montessori-school-in-person-room-219-55/
LOCATION:10700 Winterpock Rd\, Chesterfield\, VA\, United States
GEO:37.392683;-77.605362
END:VEVENT
BEGIN:VEVENT
DTSTART;TZID=America/New_York:20260325T190000
DTEND;TZID=America/New_York:20260325T203000
DTSTAMP:20260423T152736
CREATED:20260120T230655Z
LAST-MODIFIED:20260325T093812Z
UID:10003364-1774465200-1774470600@www.bethiaumc.org
SUMMARY:AL-ANON / In Person / Room 215
DESCRIPTION:
URL:https://www.bethiaumc.org/event/al-anon-in-person-room-215-58/
LOCATION:10700 Winterpock Rd\, Chesterfield\, VA\, United States
GEO:37.392683;-77.605362
END:VEVENT
BEGIN:VEVENT
DTSTART;TZID=America/New_York:20260325T190000
DTEND;TZID=America/New_York:20260325T203000
DTSTAMP:20260423T152736
CREATED:20260119T225607Z
LAST-MODIFIED:20260325T093812Z
UID:10003361-1774465200-1774470600@www.bethiaumc.org
SUMMARY:STEM Venture Crew Troop 2822 Planning Meeting / In Person / Room 103 & 105
DESCRIPTION:
URL:https://www.bethiaumc.org/event/stem-venture-crew-troop-2822-planning-meeting-in-person-room-103-105-32/
LOCATION:10700 Winterpock Rd\, Chesterfield\, VA\, United States
GEO:37.392683;-77.605362
END:VEVENT
BEGIN:VEVENT
DTSTART;TZID=America/New_York:20260325T190000
DTEND;TZID=America/New_York:20260325T201500
DTSTAMP:20260423T152736
CREATED:20260119T225607Z
LAST-MODIFIED:20260325T093812Z
UID:10003360-1774465200-1774469700@www.bethiaumc.org
SUMMARY:Worship Choir Practice / In Person / Sanctuary
DESCRIPTION:
URL:https://www.bethiaumc.org/event/worship-choir-practice-in-person-sanctuary-116/
LOCATION:10700 Winterpock Rd\, Chesterfield\, VA\, United States
GEO:37.392683;-77.605362
END:VEVENT
BEGIN:VEVENT
DTSTART;TZID=America/New_York:20260325T173000
DTEND;TZID=America/New_York:20260325T203000
DTSTAMP:20260423T152736
CREATED:20260119T225607Z
LAST-MODIFIED:20260325T093812Z
UID:10003362-1774459800-1774470600@www.bethiaumc.org
SUMMARY:Focus Sports / In Person / SEED Hall
DESCRIPTION:
URL:https://www.bethiaumc.org/event/focus-sports-in-person-seed-hall-295/
LOCATION:10700 Winterpock Rd\, Chesterfield\, VA\, United States
GEO:37.392683;-77.605362
END:VEVENT
BEGIN:VEVENT
DTSTART;TZID=America/New_York:20260325T100000
DTEND;TZID=America/New_York:20260325T120000
DTSTAMP:20260423T152736
CREATED:20260118T225147Z
LAST-MODIFIED:20260325T093811Z
UID:10003359-1774432800-1774440000@www.bethiaumc.org
SUMMARY:Everlasting Ladies Reunion Group / In Person / Room 1
DESCRIPTION:
URL:https://www.bethiaumc.org/event/everlasting-ladies-reunion-group-in-person-room-1-82/
LOCATION:10700 Winterpock Rd\, Chesterfield\, VA\, United States
GEO:37.392683;-77.605362
END:VEVENT
BEGIN:VEVENT
DTSTART;TZID=America/New_York:20260325T100000
DTEND;TZID=America/New_York:20260325T120000
DTSTAMP:20260423T152736
CREATED:20260118T225146Z
LAST-MODIFIED:20260325T093811Z
UID:10003357-1774432800-1774440000@www.bethiaumc.org
SUMMARY:Art Ministry / In Person / Room 103
DESCRIPTION:
URL:https://www.bethiaumc.org/event/art-ministry-in-person-room-103-112/
LOCATION:10700 Winterpock Rd\, Chesterfield\, VA\, United States
GEO:37.392683;-77.605362
END:VEVENT
BEGIN:VEVENT
DTSTART;TZID=America/New_York:20260325T080000
DTEND;TZID=America/New_York:20260325T130000
DTSTAMP:20260423T152736
CREATED:20260116T222441Z
LAST-MODIFIED:20260325T093811Z
UID:10003350-1774425600-1774443600@www.bethiaumc.org
SUMMARY:Cedar Woods Montessori School / In Person / Room 219
DESCRIPTION:
URL:https://www.bethiaumc.org/event/cedar-woods-montessori-school-in-person-room-219-53/
LOCATION:10700 Winterpock Rd\, Chesterfield\, VA\, United States
GEO:37.392683;-77.605362
END:VEVENT
BEGIN:VEVENT
DTSTART;TZID=America/New_York:20260325T080000
DTEND;TZID=America/New_York:20260325T113000
DTSTAMP:20260423T152736
CREATED:20260118T225146Z
LAST-MODIFIED:20260325T093812Z
UID:10003358-1774425600-1774438200@www.bethiaumc.org
SUMMARY:Pickleball / In Person / SEED Hall
DESCRIPTION:
URL:https://www.bethiaumc.org/event/pickleball-in-person-seed-hall-363/
LOCATION:10700 Winterpock Rd\, Chesterfield\, VA\, United States
GEO:37.392683;-77.605362
END:VEVENT
BEGIN:VEVENT
DTSTART;TZID=America/New_York:20260324T190000
DTEND;TZID=America/New_York:20260324T220000
DTSTAMP:20260423T152736
CREATED:20260118T225146Z
LAST-MODIFIED:20260324T093908Z
UID:10003355-1774378800-1774389600@www.bethiaumc.org
SUMMARY:Basketball Open Gym / In Person / SEED Hall
DESCRIPTION:
URL:https://www.bethiaumc.org/event/basketball-open-gym-in-person-seed-hall-111/
LOCATION:10700 Winterpock Rd\, Chesterfield\, VA\, United States
GEO:37.392683;-77.605362
END:VEVENT
BEGIN:VEVENT
DTSTART;TZID=America/New_York:20260324T190000
DTEND;TZID=America/New_York:20260324T203000
DTSTAMP:20260423T152736
CREATED:20260118T225146Z
LAST-MODIFIED:20260125T232045Z
UID:10003356-1774378800-1774384200@www.bethiaumc.org
SUMMARY:Trustees Meeting / In Person / Room 103
DESCRIPTION:
URL:https://www.bethiaumc.org/event/trustees-meeting-in-person-room-103-26/
LOCATION:10700 Winterpock Rd\, Chesterfield\, VA\, United States
GEO:37.392683;-77.605362
END:VEVENT
BEGIN:VEVENT
DTSTART;TZID=America/New_York:20260324T183000
DTEND;TZID=America/New_York:20260324T203000
DTSTAMP:20260423T152736
CREATED:20260126T232047Z
LAST-MODIFIED:20260324T093908Z
UID:10003393-1774377000-1774384200@www.bethiaumc.org
SUMMARY:Trustees Meeting / In Person / Room 103
DESCRIPTION:
URL:https://www.bethiaumc.org/event/trustees-meeting-in-person-room-103-29/
LOCATION:10700 Winterpock Rd\, Chesterfield\, VA\, United States
GEO:37.392683;-77.605362
END:VEVENT
BEGIN:VEVENT
DTSTART;TZID=America/New_York:20260324T173000
DTEND;TZID=America/New_York:20260324T190000
DTSTAMP:20260423T152736
CREATED:20260118T225145Z
LAST-MODIFIED:20260324T093908Z
UID:10003354-1774373400-1774378800@www.bethiaumc.org
SUMMARY:Focus Sports / In Person / SEED Hall
DESCRIPTION:
URL:https://www.bethiaumc.org/event/focus-sports-in-person-seed-hall-294/
LOCATION:10700 Winterpock Rd\, Chesterfield\, VA\, United States
GEO:37.392683;-77.605362
END:VEVENT
BEGIN:VEVENT
DTSTART;TZID=America/New_York:20260324T080000
DTEND;TZID=America/New_York:20260324T130000
DTSTAMP:20260423T152736
CREATED:20260116T222440Z
LAST-MODIFIED:20260324T093908Z
UID:10003349-1774339200-1774357200@www.bethiaumc.org
SUMMARY:Cedar Woods Montessori School / In Person / Room 219
DESCRIPTION:
URL:https://www.bethiaumc.org/event/cedar-woods-montessori-school-in-person-room-219-52/
LOCATION:10700 Winterpock Rd\, Chesterfield\, VA\, United States
GEO:37.392683;-77.605362
END:VEVENT
BEGIN:VEVENT
DTSTART;TZID=America/New_York:20260323T200000
DTEND;TZID=America/New_York:20260323T220000
DTSTAMP:20260423T152736
CREATED:20260219T033835Z
LAST-MODIFIED:20260310T073916Z
UID:10003505-1774296000-1774303200@www.bethiaumc.org
SUMMARY:Clover Hill Martinez Basketball / In Person / SEED Hall
DESCRIPTION:
URL:https://www.bethiaumc.org/event/clover-hill-martinez-basketball-in-person-seed-hall-18/
LOCATION:10700 Winterpock Rd\, Chesterfield\, VA\, United States
GEO:37.392683;-77.605362
END:VEVENT
BEGIN:VEVENT
DTSTART;TZID=America/New_York:20260323T180000
DTEND;TZID=America/New_York:20260323T203000
DTSTAMP:20260423T152736
CREATED:20260117T223936Z
LAST-MODIFIED:20260323T093807Z
UID:10003353-1774288800-1774297800@www.bethiaumc.org
SUMMARY:Boy Scout Troop 2806 / In Person / Sanctuary
DESCRIPTION:
URL:https://www.bethiaumc.org/event/boy-scout-troop-2806-in-person-sanctuary-9/
LOCATION:10700 Winterpock Rd\, Chesterfield\, VA\, United States
GEO:37.392683;-77.605362
END:VEVENT
BEGIN:VEVENT
DTSTART;TZID=America/New_York:20260323T170000
DTEND;TZID=America/New_York:20260323T180000
DTSTAMP:20260423T152736
CREATED:20260129T233942Z
LAST-MODIFIED:20260323T093807Z
UID:10003422-1774285200-1774288800@www.bethiaumc.org
SUMMARY:Ignite Performance Youth Sports Development / In Person / SEED Hall
DESCRIPTION:
URL:https://www.bethiaumc.org/event/ignite-performance-youth-sports-development-in-person-seed-hall-8/
LOCATION:10700 Winterpock Rd\, Chesterfield\, VA\, United States
GEO:37.392683;-77.605362
END:VEVENT
BEGIN:VEVENT
DTSTART;TZID=America/New_York:20260323T080000
DTEND;TZID=America/New_York:20260323T130000
DTSTAMP:20260423T152736
CREATED:20260117T223936Z
LAST-MODIFIED:20260323T093806Z
UID:10003352-1774252800-1774270800@www.bethiaumc.org
SUMMARY:Cedar Woods Montessori School / In Person / Room 219
DESCRIPTION:
URL:https://www.bethiaumc.org/event/cedar-woods-montessori-school-in-person-room-219-54/
LOCATION:10700 Winterpock Rd\, Chesterfield\, VA\, United States
GEO:37.392683;-77.605362
END:VEVENT
BEGIN:VEVENT
DTSTART;TZID=America/New_York:20260323T080000
DTEND;TZID=America/New_York:20260323T113000
DTSTAMP:20260423T152736
CREATED:20260117T223935Z
LAST-MODIFIED:20260323T093807Z
UID:10003351-1774252800-1774265400@www.bethiaumc.org
SUMMARY:Pickleball / In Person / SEED Hall
DESCRIPTION:
URL:https://www.bethiaumc.org/event/pickleball-in-person-seed-hall-362/
LOCATION:10700 Winterpock Rd\, Chesterfield\, VA\, United States
GEO:37.392683;-77.605362
END:VEVENT
BEGIN:VEVENT
DTSTART;TZID=America/New_York:20250825T183000
DTEND;TZID=America/New_York:20260413T193000
DTSTAMP:20260423T152736
CREATED:20260106T205241Z
LAST-MODIFIED:20260329T111022Z
UID:10003300-1756146600-1776108600@www.bethiaumc.org
SUMMARY:Cub Scout Pack 2822 / In Person / SEED Hall\, Room 103\, Room 105 & Bistro
DESCRIPTION:
URL:https://www.bethiaumc.org/event/cub-scout-pack-2822-in-person-seed-hall-room-103-room-105-bistro-35/
LOCATION:10700 Winterpock Rd\, Chesterfield\, VA\, United States
GEO:37.392683;-77.605362
END:VEVENT
END:VCALENDAR