BEGIN:VCALENDAR
VERSION:2.0
PRODID:-//Bethia United Methodist Church - ECPv6.15.20//NONSGML v1.0//EN
CALSCALE:GREGORIAN
METHOD:PUBLISH
X-WR-CALNAME:Bethia United Methodist Church
X-ORIGINAL-URL:https://www.bethiaumc.org
X-WR-CALDESC:Events for Bethia United Methodist Church
REFRESH-INTERVAL;VALUE=DURATION:PT1H
X-Robots-Tag:noindex
X-PUBLISHED-TTL:PT1H
BEGIN:VTIMEZONE
TZID:America/New_York
BEGIN:DAYLIGHT
TZOFFSETFROM:-0500
TZOFFSETTO:-0400
TZNAME:EDT
DTSTART:20250309T070000
END:DAYLIGHT
BEGIN:STANDARD
TZOFFSETFROM:-0400
TZOFFSETTO:-0500
TZNAME:EST
DTSTART:20251102T060000
END:STANDARD
BEGIN:DAYLIGHT
TZOFFSETFROM:-0500
TZOFFSETTO:-0400
TZNAME:EDT
DTSTART:20260308T070000
END:DAYLIGHT
BEGIN:STANDARD
TZOFFSETFROM:-0400
TZOFFSETTO:-0500
TZNAME:EST
DTSTART:20261101T060000
END:STANDARD
BEGIN:DAYLIGHT
TZOFFSETFROM:-0500
TZOFFSETTO:-0400
TZNAME:EDT
DTSTART:20270314T070000
END:DAYLIGHT
BEGIN:STANDARD
TZOFFSETFROM:-0400
TZOFFSETTO:-0500
TZNAME:EST
DTSTART:20271107T060000
END:STANDARD
END:VTIMEZONE
BEGIN:VEVENT
DTSTART;TZID=America/New_York:20260520T080000
DTEND;TZID=America/New_York:20260520T130000
DTSTAMP:20260420T005114
CREATED:20260317T083943Z
LAST-MODIFIED:20260329T111036Z
UID:10003640-1779264000-1779282000@www.bethiaumc.org
SUMMARY:Cedar Woods Montessori School / In Person / Room 219
DESCRIPTION:
URL:https://www.bethiaumc.org/event/cedar-woods-montessori-school-in-person-room-219-89/
LOCATION:10700 Winterpock Rd\, Chesterfield\, VA\, United States
GEO:37.392683;-77.605362
END:VEVENT
BEGIN:VEVENT
DTSTART;TZID=America/New_York:20260520T100000
DTEND;TZID=America/New_York:20260520T120000
DTSTAMP:20260420T005114
CREATED:20260316T083640Z
LAST-MODIFIED:20260329T111037Z
UID:10003637-1779271200-1779278400@www.bethiaumc.org
SUMMARY:Art Ministry / In Person / Room 103
DESCRIPTION:
URL:https://www.bethiaumc.org/event/art-ministry-in-person-room-103-120/
LOCATION:10700 Winterpock Rd\, Chesterfield\, VA\, United States
GEO:37.392683;-77.605362
END:VEVENT
BEGIN:VEVENT
DTSTART;TZID=America/New_York:20260520T100000
DTEND;TZID=America/New_York:20260520T120000
DTSTAMP:20260420T005114
CREATED:20260316T083640Z
LAST-MODIFIED:20260329T111037Z
UID:10003639-1779271200-1779278400@www.bethiaumc.org
SUMMARY:Everlasting Ladies Reunion Group / In Person / Room 1
DESCRIPTION:
URL:https://www.bethiaumc.org/event/everlasting-ladies-reunion-group-in-person-room-1-90/
LOCATION:10700 Winterpock Rd\, Chesterfield\, VA\, United States
GEO:37.392683;-77.605362
END:VEVENT
BEGIN:VEVENT
DTSTART;TZID=America/New_York:20260520T173000
DTEND;TZID=America/New_York:20260520T190000
DTSTAMP:20260420T005114
CREATED:20260317T083943Z
LAST-MODIFIED:20260329T111037Z
UID:10003644-1779298200-1779303600@www.bethiaumc.org
SUMMARY:Stephen Ministry / In Person / Library & Prayer Chapel
DESCRIPTION:
URL:https://www.bethiaumc.org/event/stephen-ministry-in-person-library-prayer-chapel-43/
LOCATION:10700 Winterpock Rd\, Chesterfield\, VA\, United States
GEO:37.392683;-77.605362
END:VEVENT
BEGIN:VEVENT
DTSTART;TZID=America/New_York:20260520T173000
DTEND;TZID=America/New_York:20260520T203000
DTSTAMP:20260420T005114
CREATED:20260317T083943Z
LAST-MODIFIED:20260329T111037Z
UID:10003641-1779298200-1779309000@www.bethiaumc.org
SUMMARY:Focus Sports / In Person / SEED Hall
DESCRIPTION:
URL:https://www.bethiaumc.org/event/focus-sports-in-person-seed-hall-318/
LOCATION:10700 Winterpock Rd\, Chesterfield\, VA\, United States
GEO:37.392683;-77.605362
END:VEVENT
BEGIN:VEVENT
DTSTART;TZID=America/New_York:20260520T190000
DTEND;TZID=America/New_York:20260520T201500
DTSTAMP:20260420T005114
CREATED:20260317T083943Z
LAST-MODIFIED:20260329T111037Z
UID:10003642-1779303600-1779308100@www.bethiaumc.org
SUMMARY:Worship Choir Practice / In Person / Sanctuary
DESCRIPTION:
URL:https://www.bethiaumc.org/event/worship-choir-practice-in-person-sanctuary-124/
LOCATION:10700 Winterpock Rd\, Chesterfield\, VA\, United States
GEO:37.392683;-77.605362
END:VEVENT
BEGIN:VEVENT
DTSTART;TZID=America/New_York:20260520T190000
DTEND;TZID=America/New_York:20260520T203000
DTSTAMP:20260420T005114
CREATED:20260317T083943Z
LAST-MODIFIED:20260329T111037Z
UID:10003643-1779303600-1779309000@www.bethiaumc.org
SUMMARY:AL-ANON / In Person / Room 215
DESCRIPTION:
URL:https://www.bethiaumc.org/event/al-anon-in-person-room-215-66/
LOCATION:10700 Winterpock Rd\, Chesterfield\, VA\, United States
GEO:37.392683;-77.605362
END:VEVENT
BEGIN:VEVENT
DTSTART;TZID=America/New_York:20260521T080000
DTEND;TZID=America/New_York:20260521T130000
DTSTAMP:20260420T005114
CREATED:20260318T085543Z
LAST-MODIFIED:20260329T111037Z
UID:10003648-1779350400-1779368400@www.bethiaumc.org
SUMMARY:Cedar Woods Montessori School / In Person / Room 219
DESCRIPTION:
URL:https://www.bethiaumc.org/event/cedar-woods-montessori-school-in-person-room-219-90/
LOCATION:10700 Winterpock Rd\, Chesterfield\, VA\, United States
GEO:37.392683;-77.605362
END:VEVENT
BEGIN:VEVENT
DTSTART;TZID=America/New_York:20260521T093000
DTEND;TZID=America/New_York:20260521T113000
DTSTAMP:20260420T005114
CREATED:20260317T083943Z
LAST-MODIFIED:20260329T111037Z
UID:10003645-1779355800-1779363000@www.bethiaumc.org
SUMMARY:Bible Study / In Person / Room 103
DESCRIPTION:
URL:https://www.bethiaumc.org/event/bible-study-in-person-room-103-121/
LOCATION:10700 Winterpock Rd\, Chesterfield\, VA\, United States
GEO:37.392683;-77.605362
END:VEVENT
BEGIN:VEVENT
DTSTART;TZID=America/New_York:20260521T173000
DTEND;TZID=America/New_York:20260521T203000
DTSTAMP:20260420T005114
CREATED:20260318T085543Z
LAST-MODIFIED:20260329T111037Z
UID:10003649-1779384600-1779395400@www.bethiaumc.org
SUMMARY:Focus Sports / In Person / SEED Hall
DESCRIPTION:
URL:https://www.bethiaumc.org/event/focus-sports-in-person-seed-hall-319/
LOCATION:10700 Winterpock Rd\, Chesterfield\, VA\, United States
GEO:37.392683;-77.605362
END:VEVENT
BEGIN:VEVENT
DTSTART;TZID=America/New_York:20260522T080000
DTEND;TZID=America/New_York:20260522T113000
DTSTAMP:20260420T005114
CREATED:20260319T090838Z
LAST-MODIFIED:20260329T111037Z
UID:10003650-1779436800-1779449400@www.bethiaumc.org
SUMMARY:Pickleball / In Person / SEED Hall
DESCRIPTION:
URL:https://www.bethiaumc.org/event/pickleball-in-person-seed-hall-388/
LOCATION:10700 Winterpock Rd\, Chesterfield\, VA\, United States
GEO:37.392683;-77.605362
END:VEVENT
BEGIN:VEVENT
DTSTART;TZID=America/New_York:20260522T080000
DTEND;TZID=America/New_York:20260522T130000
DTSTAMP:20260420T005114
CREATED:20260319T090838Z
LAST-MODIFIED:20260329T111038Z
UID:10003651-1779436800-1779454800@www.bethiaumc.org
SUMMARY:Cedar Woods Montessori School / In Person / Room 219
DESCRIPTION:
URL:https://www.bethiaumc.org/event/cedar-woods-montessori-school-in-person-room-219-91/
LOCATION:10700 Winterpock Rd\, Chesterfield\, VA\, United States
GEO:37.392683;-77.605362
END:VEVENT
BEGIN:VEVENT
DTSTART;TZID=America/New_York:20260522T173000
DTEND;TZID=America/New_York:20260522T203000
DTSTAMP:20260420T005114
CREATED:20260319T090838Z
LAST-MODIFIED:20260329T111038Z
UID:10003652-1779471000-1779481800@www.bethiaumc.org
SUMMARY:Focus Sports League / In Person / SEED Hall
DESCRIPTION:
URL:https://www.bethiaumc.org/event/focus-sports-league-in-person-seed-hall-18/
LOCATION:10700 Winterpock Rd\, Chesterfield\, VA\, United States
GEO:37.392683;-77.605362
END:VEVENT
BEGIN:VEVENT
DTSTART;TZID=America/New_York:20260524T090000
DTEND;TZID=America/New_York:20260524T094500
DTSTAMP:20260420T005114
CREATED:20260319T090838Z
LAST-MODIFIED:20260329T111038Z
UID:10003653-1779613200-1779615900@www.bethiaumc.org
SUMMARY:Adult Sunday School w/ David Jones / In Person / Room 1
DESCRIPTION:
URL:https://www.bethiaumc.org/event/adult-sunday-school-w-david-jones-in-person-room-1-130/
LOCATION:10700 Winterpock Rd\, Chesterfield\, VA\, United States
GEO:37.392683;-77.605362
END:VEVENT
BEGIN:VEVENT
DTSTART;TZID=America/New_York:20260524T090000
DTEND;TZID=America/New_York:20260524T094500
DTSTAMP:20260420T005114
CREATED:20260319T090838Z
LAST-MODIFIED:20260329T111038Z
UID:10003654-1779613200-1779615900@www.bethiaumc.org
SUMMARY:SALT Adult Sunday School / In Person / Room 103
DESCRIPTION:
URL:https://www.bethiaumc.org/event/salt-adult-sunday-school-in-person-room-103-130/
LOCATION:10700 Winterpock Rd\, Chesterfield\, VA\, United States
GEO:37.392683;-77.605362
END:VEVENT
BEGIN:VEVENT
DTSTART;TZID=America/New_York:20260524T090000
DTEND;TZID=America/New_York:20260524T094500
DTSTAMP:20260420T005115
CREATED:20260319T090839Z
LAST-MODIFIED:20260329T111038Z
UID:10003655-1779613200-1779615900@www.bethiaumc.org
SUMMARY:Youth Sunday School (MS and HS) / In Person / Bistro
DESCRIPTION:
URL:https://www.bethiaumc.org/event/youth-sunday-school-ms-and-hs-in-person-bistro-137/
LOCATION:10700 Winterpock Rd\, Chesterfield\, VA\, United States
GEO:37.392683;-77.605362
END:VEVENT
BEGIN:VEVENT
DTSTART;TZID=America/New_York:20260524T090000
DTEND;TZID=America/New_York:20260524T094500
DTSTAMP:20260420T005115
CREATED:20260319T090839Z
LAST-MODIFIED:20260329T111038Z
UID:10003656-1779613200-1779615900@www.bethiaumc.org
SUMMARY:GYM Adult Sunday School Class / In Person / SEED Hall
DESCRIPTION:
URL:https://www.bethiaumc.org/event/gym-adult-sunday-school-class-in-person-seed-hall-129/
LOCATION:10700 Winterpock Rd\, Chesterfield\, VA\, United States
GEO:37.392683;-77.605362
END:VEVENT
BEGIN:VEVENT
DTSTART;TZID=America/New_York:20260524T090000
DTEND;TZID=America/New_York:20260524T094500
DTSTAMP:20260420T005115
CREATED:20260319T090839Z
LAST-MODIFIED:20260329T111038Z
UID:10003657-1779613200-1779615900@www.bethiaumc.org
SUMMARY:Children's Sunday School / In Person / Rooms 218-219
DESCRIPTION:
URL:https://www.bethiaumc.org/event/childrens-sunday-school-in-person-rooms-218-219-138/
LOCATION:10700 Winterpock Rd\, Chesterfield\, VA\, United States
GEO:37.392683;-77.605362
END:VEVENT
BEGIN:VEVENT
DTSTART;TZID=America/New_York:20260524T090000
DTEND;TZID=America/New_York:20260524T094500
DTSTAMP:20260420T005115
CREATED:20260320T092431Z
LAST-MODIFIED:20260329T111038Z
UID:10003658-1779613200-1779615900@www.bethiaumc.org
SUMMARY:Preschool Sunday School / In Person / Rooms 105
DESCRIPTION:
URL:https://www.bethiaumc.org/event/preschool-sunday-school-in-person-rooms-105-43/
LOCATION:10700 Winterpock Rd\, Chesterfield\, VA\, United States
GEO:37.392683;-77.605362
END:VEVENT
BEGIN:VEVENT
DTSTART;TZID=America/New_York:20260524T100000
DTEND;TZID=America/New_York:20260524T110000
DTSTAMP:20260420T005115
CREATED:20260320T092432Z
LAST-MODIFIED:20260329T111038Z
UID:10003659-1779616800-1779620400@www.bethiaumc.org
SUMMARY:10 am Sunday Worship / In Person / Sanctuary
DESCRIPTION:
URL:https://www.bethiaumc.org/event/10-am-sunday-worship-in-person-sanctuary-35/
LOCATION:10700 Winterpock Rd\, Chesterfield\, VA\, United States
GEO:37.392683;-77.605362
END:VEVENT
BEGIN:VEVENT
DTSTART;TZID=America/New_York:20260524T160000
DTEND;TZID=America/New_York:20260524T173000
DTSTAMP:20260420T005115
CREATED:20260320T092432Z
LAST-MODIFIED:20260329T111038Z
UID:10003660-1779638400-1779643800@www.bethiaumc.org
SUMMARY:Youth Group / In Person / SEED Hall & Room 103
DESCRIPTION:
URL:https://www.bethiaumc.org/event/youth-group-in-person-seed-hall-room-103-113/
LOCATION:10700 Winterpock Rd\, Chesterfield\, VA\, United States
GEO:37.392683;-77.605362
END:VEVENT
BEGIN:VEVENT
DTSTART;TZID=America/New_York:20260524T190000
DTEND;TZID=America/New_York:20260524T203000
DTSTAMP:20260420T005115
CREATED:20260321T093533Z
LAST-MODIFIED:20260329T111038Z
UID:10003661-1779649200-1779654600@www.bethiaumc.org
SUMMARY:AL-ANON / In Person / Room 103
DESCRIPTION:
URL:https://www.bethiaumc.org/event/al-anon-in-person-room-103-71/
LOCATION:10700 Winterpock Rd\, Chesterfield\, VA\, United States
GEO:37.392683;-77.605362
END:VEVENT
BEGIN:VEVENT
DTSTART;TZID=America/New_York:20260525T080000
DTEND;TZID=America/New_York:20260525T113000
DTSTAMP:20260420T005115
CREATED:20260321T093533Z
LAST-MODIFIED:20260329T111038Z
UID:10003663-1779696000-1779708600@www.bethiaumc.org
SUMMARY:Pickleball / In Person / SEED Hall
DESCRIPTION:
URL:https://www.bethiaumc.org/event/pickleball-in-person-seed-hall-389/
LOCATION:10700 Winterpock Rd\, Chesterfield\, VA\, United States
GEO:37.392683;-77.605362
END:VEVENT
BEGIN:VEVENT
DTSTART;TZID=America/New_York:20260525T080000
DTEND;TZID=America/New_York:20260525T130000
DTSTAMP:20260420T005115
CREATED:20260321T093533Z
LAST-MODIFIED:20260329T111038Z
UID:10003662-1779696000-1779714000@www.bethiaumc.org
SUMMARY:Cedar Woods Montessori School / In Person / Room 219
DESCRIPTION:
URL:https://www.bethiaumc.org/event/cedar-woods-montessori-school-in-person-room-219-92/
LOCATION:10700 Winterpock Rd\, Chesterfield\, VA\, United States
GEO:37.392683;-77.605362
END:VEVENT
BEGIN:VEVENT
DTSTART;TZID=America/New_York:20260525T170000
DTEND;TZID=America/New_York:20260525T180000
DTSTAMP:20260420T005115
CREATED:20260322T093840Z
LAST-MODIFIED:20260329T111039Z
UID:10003664-1779728400-1779732000@www.bethiaumc.org
SUMMARY:Ignite Performance Youth Sports Development / In Person / SEED Hall
DESCRIPTION:
URL:https://www.bethiaumc.org/event/ignite-performance-youth-sports-development-in-person-seed-hall-19/
LOCATION:10700 Winterpock Rd\, Chesterfield\, VA\, United States
GEO:37.392683;-77.605362
END:VEVENT
BEGIN:VEVENT
DTSTART;TZID=America/New_York:20260526T080000
DTEND;TZID=America/New_York:20260526T130000
DTSTAMP:20260420T005115
CREATED:20260322T093840Z
LAST-MODIFIED:20260329T111039Z
UID:10003665-1779782400-1779800400@www.bethiaumc.org
SUMMARY:Cedar Woods Montessori School / In Person / Room 219
DESCRIPTION:
URL:https://www.bethiaumc.org/event/cedar-woods-montessori-school-in-person-room-219-93/
LOCATION:10700 Winterpock Rd\, Chesterfield\, VA\, United States
GEO:37.392683;-77.605362
END:VEVENT
BEGIN:VEVENT
DTSTART;TZID=America/New_York:20260526T173000
DTEND;TZID=America/New_York:20260526T190000
DTSTAMP:20260420T005115
CREATED:20260323T093830Z
LAST-MODIFIED:20260329T111039Z
UID:10003667-1779816600-1779822000@www.bethiaumc.org
SUMMARY:Focus Sports / In Person / SEED Hall
DESCRIPTION:
URL:https://www.bethiaumc.org/event/focus-sports-in-person-seed-hall-320/
LOCATION:10700 Winterpock Rd\, Chesterfield\, VA\, United States
GEO:37.392683;-77.605362
END:VEVENT
BEGIN:VEVENT
DTSTART;TZID=America/New_York:20260526T183000
DTEND;TZID=America/New_York:20260526T203000
DTSTAMP:20260420T005115
CREATED:20260323T093830Z
LAST-MODIFIED:20260329T111039Z
UID:10003668-1779820200-1779827400@www.bethiaumc.org
SUMMARY:Trustees Meeting / In Person / Room 103
DESCRIPTION:
URL:https://www.bethiaumc.org/event/trustees-meeting-in-person-room-103-31/
LOCATION:10700 Winterpock Rd\, Chesterfield\, VA\, United States
GEO:37.392683;-77.605362
END:VEVENT
BEGIN:VEVENT
DTSTART;TZID=America/New_York:20260526T190000
DTEND;TZID=America/New_York:20260526T220000
DTSTAMP:20260420T005115
CREATED:20260323T093830Z
LAST-MODIFIED:20260329T111039Z
UID:10003666-1779822000-1779832800@www.bethiaumc.org
SUMMARY:Basketball Open Gym / In Person / SEED Hall
DESCRIPTION:
URL:https://www.bethiaumc.org/event/basketball-open-gym-in-person-seed-hall-119/
LOCATION:10700 Winterpock Rd\, Chesterfield\, VA\, United States
GEO:37.392683;-77.605362
END:VEVENT
BEGIN:VEVENT
DTSTART;TZID=America/New_York:20260527T080000
DTEND;TZID=America/New_York:20260527T113000
DTSTAMP:20260420T005115
CREATED:20260323T093830Z
LAST-MODIFIED:20260329T111039Z
UID:10003669-1779868800-1779881400@www.bethiaumc.org
SUMMARY:Pickleball / In Person / SEED Hall
DESCRIPTION:
URL:https://www.bethiaumc.org/event/pickleball-in-person-seed-hall-390/
LOCATION:10700 Winterpock Rd\, Chesterfield\, VA\, United States
GEO:37.392683;-77.605362
END:VEVENT
END:VCALENDAR