BEGIN:VCALENDAR
VERSION:2.0
PRODID:-//Bethia United Methodist Church - ECPv6.15.20//NONSGML v1.0//EN
CALSCALE:GREGORIAN
METHOD:PUBLISH
X-ORIGINAL-URL:https://www.bethiaumc.org
X-WR-CALDESC:Events for Bethia United Methodist Church
REFRESH-INTERVAL;VALUE=DURATION:PT1H
X-Robots-Tag:noindex
X-PUBLISHED-TTL:PT1H
BEGIN:VTIMEZONE
TZID:America/New_York
BEGIN:DAYLIGHT
TZOFFSETFROM:-0500
TZOFFSETTO:-0400
TZNAME:EDT
DTSTART:20250309T070000
END:DAYLIGHT
BEGIN:STANDARD
TZOFFSETFROM:-0400
TZOFFSETTO:-0500
TZNAME:EST
DTSTART:20251102T060000
END:STANDARD
BEGIN:DAYLIGHT
TZOFFSETFROM:-0500
TZOFFSETTO:-0400
TZNAME:EDT
DTSTART:20260308T070000
END:DAYLIGHT
BEGIN:STANDARD
TZOFFSETFROM:-0400
TZOFFSETTO:-0500
TZNAME:EST
DTSTART:20261101T060000
END:STANDARD
BEGIN:DAYLIGHT
TZOFFSETFROM:-0500
TZOFFSETTO:-0400
TZNAME:EDT
DTSTART:20270314T070000
END:DAYLIGHT
BEGIN:STANDARD
TZOFFSETFROM:-0400
TZOFFSETTO:-0500
TZNAME:EST
DTSTART:20271107T060000
END:STANDARD
END:VTIMEZONE
BEGIN:VEVENT
DTSTART;TZID=America/New_York:20260414T100000
DTEND;TZID=America/New_York:20260414T113000
DTSTAMP:20260419T111418
CREATED:20260210T014050Z
LAST-MODIFIED:20260329T111022Z
UID:10003463-1776160800-1776166200@www.bethiaumc.org
SUMMARY:UWinFaith Marian Berry Circle / In Person / Room 103
DESCRIPTION:
URL:https://www.bethiaumc.org/event/uwinfaith-marian-berry-circle-in-person-room-103-26/
LOCATION:10700 Winterpock Rd\, Chesterfield\, VA\, United States
GEO:37.392683;-77.605362
END:VEVENT
BEGIN:VEVENT
DTSTART;TZID=America/New_York:20260414T080000
DTEND;TZID=America/New_York:20260414T130000
DTSTAMP:20260419T111418
CREATED:20260210T014050Z
LAST-MODIFIED:20260329T111022Z
UID:10003462-1776153600-1776171600@www.bethiaumc.org
SUMMARY:Cedar Woods Montessori School / In Person / Room 219
DESCRIPTION:
URL:https://www.bethiaumc.org/event/cedar-woods-montessori-school-in-person-room-219-63/
LOCATION:10700 Winterpock Rd\, Chesterfield\, VA\, United States
GEO:37.392683;-77.605362
END:VEVENT
BEGIN:VEVENT
DTSTART;TZID=America/New_York:20260413T183000
DTEND;TZID=America/New_York:20260413T193000
DTSTAMP:20260419T111418
CREATED:20260210T014050Z
LAST-MODIFIED:20260329T111022Z
UID:10003461-1776105000-1776108600@www.bethiaumc.org
SUMMARY:Cub Scout Pack 2822 / In Person / SEED Hall\, Room 103\, Room 105 & Bistro
DESCRIPTION:
URL:https://www.bethiaumc.org/event/cub-scout-pack-2822-in-person-seed-hall-room-103-room-105-bistro-38/
LOCATION:10700 Winterpock Rd\, Chesterfield\, VA\, United States
GEO:37.392683;-77.605362
END:VEVENT
BEGIN:VEVENT
DTSTART;TZID=America/New_York:20260413T180000
DTEND;TZID=America/New_York:20260413T203000
DTSTAMP:20260419T111418
CREATED:20260210T014050Z
LAST-MODIFIED:20260329T111022Z
UID:10003460-1776103200-1776112200@www.bethiaumc.org
SUMMARY:Boy Scout Troop 2806 / In Person / Sanctuary
DESCRIPTION:
URL:https://www.bethiaumc.org/event/boy-scout-troop-2806-in-person-sanctuary-11/
LOCATION:10700 Winterpock Rd\, Chesterfield\, VA\, United States
GEO:37.392683;-77.605362
END:VEVENT
BEGIN:VEVENT
DTSTART;TZID=America/New_York:20260413T170000
DTEND;TZID=America/New_York:20260413T180000
DTSTAMP:20260419T111418
CREATED:20260209T012433Z
LAST-MODIFIED:20260329T111022Z
UID:10003459-1776099600-1776103200@www.bethiaumc.org
SUMMARY:Ignite Performance Youth Sports Development / In Person / SEED Hall
DESCRIPTION:
URL:https://www.bethiaumc.org/event/ignite-performance-youth-sports-development-in-person-seed-hall-11/
LOCATION:10700 Winterpock Rd\, Chesterfield\, VA\, United States
GEO:37.392683;-77.605362
END:VEVENT
BEGIN:VEVENT
DTSTART;TZID=America/New_York:20260413T100000
DTEND;TZID=America/New_York:20260413T130000
DTSTAMP:20260419T111418
CREATED:20260209T012433Z
LAST-MODIFIED:20260329T111022Z
UID:10003457-1776074400-1776085200@www.bethiaumc.org
SUMMARY:Lay Leader and Staff Meeting / In Person / Bethia House
DESCRIPTION:
URL:https://www.bethiaumc.org/event/lay-leader-and-staff-meeting-in-person-bethia-house-27/
LOCATION:14512 Beach Rd\, Chesterfield\, VA\, United States
GEO:37.333271;-77.634265
END:VEVENT
BEGIN:VEVENT
DTSTART;TZID=America/New_York:20260413T080000
DTEND;TZID=America/New_York:20260413T130000
DTSTAMP:20260419T111418
CREATED:20260209T012433Z
LAST-MODIFIED:20260329T111022Z
UID:10003458-1776067200-1776085200@www.bethiaumc.org
SUMMARY:Cedar Woods Montessori School / In Person / Room 219
DESCRIPTION:
URL:https://www.bethiaumc.org/event/cedar-woods-montessori-school-in-person-room-219-62/
LOCATION:10700 Winterpock Rd\, Chesterfield\, VA\, United States
GEO:37.392683;-77.605362
END:VEVENT
BEGIN:VEVENT
DTSTART;TZID=America/New_York:20260413T080000
DTEND;TZID=America/New_York:20260413T113000
DTSTAMP:20260419T111418
CREATED:20260209T012433Z
LAST-MODIFIED:20260329T111022Z
UID:10003456-1776067200-1776079800@www.bethiaumc.org
SUMMARY:Pickleball / In Person / SEED Hall
DESCRIPTION:
URL:https://www.bethiaumc.org/event/pickleball-in-person-seed-hall-371/
LOCATION:10700 Winterpock Rd\, Chesterfield\, VA\, United States
GEO:37.392683;-77.605362
END:VEVENT
BEGIN:VEVENT
DTSTART;TZID=America/New_York:20260412T190000
DTEND;TZID=America/New_York:20260412T203000
DTSTAMP:20260419T111418
CREATED:20260209T012433Z
LAST-MODIFIED:20260329T111022Z
UID:10003455-1776020400-1776025800@www.bethiaumc.org
SUMMARY:AL-ANON / In Person / Room 103
DESCRIPTION:
URL:https://www.bethiaumc.org/event/al-anon-in-person-room-103-65/
LOCATION:10700 Winterpock Rd\, Chesterfield\, VA\, United States
GEO:37.392683;-77.605362
END:VEVENT
BEGIN:VEVENT
DTSTART;TZID=America/New_York:20260412T160000
DTEND;TZID=America/New_York:20260412T173000
DTSTAMP:20260419T111418
CREATED:20260209T012433Z
LAST-MODIFIED:20260329T111021Z
UID:10003454-1776009600-1776015000@www.bethiaumc.org
SUMMARY:Youth Group / In Person / SEED Hall & Room 103
DESCRIPTION:
URL:https://www.bethiaumc.org/event/youth-group-in-person-seed-hall-room-103-107/
LOCATION:10700 Winterpock Rd\, Chesterfield\, VA\, United States
GEO:37.392683;-77.605362
END:VEVENT
BEGIN:VEVENT
DTSTART;TZID=America/New_York:20260412T100000
DTEND;TZID=America/New_York:20260412T110000
DTSTAMP:20260419T111418
CREATED:20260209T012433Z
LAST-MODIFIED:20260329T111021Z
UID:10003453-1775988000-1775991600@www.bethiaumc.org
SUMMARY:10 am Sunday Worship / In Person / Sanctuary
DESCRIPTION:
URL:https://www.bethiaumc.org/event/10-am-sunday-worship-in-person-sanctuary-29/
LOCATION:10700 Winterpock Rd\, Chesterfield\, VA\, United States
GEO:37.392683;-77.605362
END:VEVENT
BEGIN:VEVENT
DTSTART;TZID=America/New_York:20260412T090000
DTEND;TZID=America/New_York:20260412T094500
DTSTAMP:20260419T111418
CREATED:20260209T012432Z
LAST-MODIFIED:20260329T111021Z
UID:10003452-1775984400-1775987100@www.bethiaumc.org
SUMMARY:Preschool Sunday School / In Person / Rooms 105
DESCRIPTION:
URL:https://www.bethiaumc.org/event/preschool-sunday-school-in-person-rooms-105-37/
LOCATION:10700 Winterpock Rd\, Chesterfield\, VA\, United States
GEO:37.392683;-77.605362
END:VEVENT
BEGIN:VEVENT
DTSTART;TZID=America/New_York:20260412T090000
DTEND;TZID=America/New_York:20260412T094500
DTSTAMP:20260419T111418
CREATED:20260207T010907Z
LAST-MODIFIED:20260329T111021Z
UID:10003447-1775984400-1775987100@www.bethiaumc.org
SUMMARY:GYM Adult Sunday School Class / In Person / SEED Hall
DESCRIPTION:
URL:https://www.bethiaumc.org/event/gym-adult-sunday-school-class-in-person-seed-hall-123/
LOCATION:10700 Winterpock Rd\, Chesterfield\, VA\, United States
GEO:37.392683;-77.605362
END:VEVENT
BEGIN:VEVENT
DTSTART;TZID=America/New_York:20260412T090000
DTEND;TZID=America/New_York:20260412T094500
DTSTAMP:20260419T111418
CREATED:20260207T010907Z
LAST-MODIFIED:20260329T111021Z
UID:10003448-1775984400-1775987100@www.bethiaumc.org
SUMMARY:Youth Sunday School (MS and HS) / In Person / Bistro
DESCRIPTION:
URL:https://www.bethiaumc.org/event/youth-sunday-school-ms-and-hs-in-person-bistro-131/
LOCATION:10700 Winterpock Rd\, Chesterfield\, VA\, United States
GEO:37.392683;-77.605362
END:VEVENT
BEGIN:VEVENT
DTSTART;TZID=America/New_York:20260412T090000
DTEND;TZID=America/New_York:20260412T094500
DTSTAMP:20260419T111418
CREATED:20260207T010907Z
LAST-MODIFIED:20260329T111021Z
UID:10003449-1775984400-1775987100@www.bethiaumc.org
SUMMARY:Children's Sunday School / In Person / Rooms 218-219
DESCRIPTION:
URL:https://www.bethiaumc.org/event/childrens-sunday-school-in-person-rooms-218-219-132/
LOCATION:10700 Winterpock Rd\, Chesterfield\, VA\, United States
GEO:37.392683;-77.605362
END:VEVENT
BEGIN:VEVENT
DTSTART;TZID=America/New_York:20260412T090000
DTEND;TZID=America/New_York:20260412T094500
DTSTAMP:20260419T111418
CREATED:20260207T010907Z
LAST-MODIFIED:20260329T111021Z
UID:10003450-1775984400-1775987100@www.bethiaumc.org
SUMMARY:Adult Sunday School w/ David Jones / In Person / Room 1
DESCRIPTION:
URL:https://www.bethiaumc.org/event/adult-sunday-school-w-david-jones-in-person-room-1-124/
LOCATION:10700 Winterpock Rd\, Chesterfield\, VA\, United States
GEO:37.392683;-77.605362
END:VEVENT
BEGIN:VEVENT
DTSTART;TZID=America/New_York:20260412T090000
DTEND;TZID=America/New_York:20260412T094500
DTSTAMP:20260419T111418
CREATED:20260207T010907Z
LAST-MODIFIED:20260329T111021Z
UID:10003451-1775984400-1775987100@www.bethiaumc.org
SUMMARY:SALT Adult Sunday School / In Person / Room 103
DESCRIPTION:
URL:https://www.bethiaumc.org/event/salt-adult-sunday-school-in-person-room-103-124/
LOCATION:10700 Winterpock Rd\, Chesterfield\, VA\, United States
GEO:37.392683;-77.605362
END:VEVENT
BEGIN:VEVENT
DTSTART;TZID=America/New_York:20260410T160000
DTEND;TZID=America/New_York:20260410T200000
DTSTAMP:20260419T111418
CREATED:20260206T010753Z
LAST-MODIFIED:20260329T111021Z
UID:10003446-1775836800-1775851200@www.bethiaumc.org
SUMMARY:Cub Scout Pack 2822 Pancake Dinner / In Person / SEED Hall & Kitchen
DESCRIPTION:
URL:https://www.bethiaumc.org/event/cub-scout-pack-2822-pancake-dinner-in-person-seed-hall-kitchen-2/
LOCATION:10700 Winterpock Rd\, Chesterfield\, VA\, United States
GEO:37.392683;-77.605362
END:VEVENT
BEGIN:VEVENT
DTSTART;TZID=America/New_York:20260410T080000
DTEND;TZID=America/New_York:20260410T130000
DTSTAMP:20260419T111418
CREATED:20260206T010753Z
LAST-MODIFIED:20260329T111021Z
UID:10003445-1775808000-1775826000@www.bethiaumc.org
SUMMARY:Cedar Woods Montessori School / In Person / Room 219
DESCRIPTION:
URL:https://www.bethiaumc.org/event/cedar-woods-montessori-school-in-person-room-219-61/
LOCATION:10700 Winterpock Rd\, Chesterfield\, VA\, United States
GEO:37.392683;-77.605362
END:VEVENT
BEGIN:VEVENT
DTSTART;TZID=America/New_York:20260410T080000
DTEND;TZID=America/New_York:20260410T113000
DTSTAMP:20260419T111418
CREATED:20260206T010753Z
LAST-MODIFIED:20260329T111021Z
UID:10003444-1775808000-1775820600@www.bethiaumc.org
SUMMARY:Pickleball / In Person / SEED Hall
DESCRIPTION:
URL:https://www.bethiaumc.org/event/pickleball-in-person-seed-hall-370/
LOCATION:10700 Winterpock Rd\, Chesterfield\, VA\, United States
GEO:37.392683;-77.605362
END:VEVENT
BEGIN:VEVENT
DTSTART;TZID=America/New_York:20260409T173000
DTEND;TZID=America/New_York:20260409T203000
DTSTAMP:20260419T111418
CREATED:20260206T010753Z
LAST-MODIFIED:20260329T111021Z
UID:10003443-1775755800-1775766600@www.bethiaumc.org
SUMMARY:Focus Sports / In Person / SEED Hall
DESCRIPTION:
URL:https://www.bethiaumc.org/event/focus-sports-in-person-seed-hall-302/
LOCATION:10700 Winterpock Rd\, Chesterfield\, VA\, United States
GEO:37.392683;-77.605362
END:VEVENT
BEGIN:VEVENT
DTSTART;TZID=America/New_York:20260409T093000
DTEND;TZID=America/New_York:20260409T113000
DTSTAMP:20260419T111418
CREATED:20260205T005442Z
LAST-MODIFIED:20260329T111020Z
UID:10003441-1775727000-1775734200@www.bethiaumc.org
SUMMARY:Bible Study / In Person / Room 103
DESCRIPTION:
URL:https://www.bethiaumc.org/event/bible-study-in-person-room-103-115/
LOCATION:10700 Winterpock Rd\, Chesterfield\, VA\, United States
GEO:37.392683;-77.605362
END:VEVENT
BEGIN:VEVENT
DTSTART;TZID=America/New_York:20260409T080000
DTEND;TZID=America/New_York:20260409T130000
DTSTAMP:20260419T111418
CREATED:20260206T010753Z
LAST-MODIFIED:20260329T111021Z
UID:10003442-1775721600-1775739600@www.bethiaumc.org
SUMMARY:Cedar Woods Montessori School / In Person / Room 219
DESCRIPTION:
URL:https://www.bethiaumc.org/event/cedar-woods-montessori-school-in-person-room-219-60/
LOCATION:10700 Winterpock Rd\, Chesterfield\, VA\, United States
GEO:37.392683;-77.605362
END:VEVENT
BEGIN:VEVENT
DTSTART;TZID=America/New_York:20260408T190000
DTEND;TZID=America/New_York:20260408T203000
DTSTAMP:20260419T111418
CREATED:20260205T005442Z
LAST-MODIFIED:20260329T111020Z
UID:10003439-1775674800-1775680200@www.bethiaumc.org
SUMMARY:STEM Venture Crew Troop 2822 Planning Meeting / In Person / Room 103 & 105
DESCRIPTION:
URL:https://www.bethiaumc.org/event/stem-venture-crew-troop-2822-planning-meeting-in-person-room-103-105-34/
LOCATION:10700 Winterpock Rd\, Chesterfield\, VA\, United States
GEO:37.392683;-77.605362
END:VEVENT
BEGIN:VEVENT
DTSTART;TZID=America/New_York:20260408T190000
DTEND;TZID=America/New_York:20260408T203000
DTSTAMP:20260419T111418
CREATED:20260205T005442Z
LAST-MODIFIED:20260329T111020Z
UID:10003440-1775674800-1775680200@www.bethiaumc.org
SUMMARY:AL-ANON / In Person / Room 215
DESCRIPTION:
URL:https://www.bethiaumc.org/event/al-anon-in-person-room-215-60/
LOCATION:10700 Winterpock Rd\, Chesterfield\, VA\, United States
GEO:37.392683;-77.605362
END:VEVENT
BEGIN:VEVENT
DTSTART;TZID=America/New_York:20260408T190000
DTEND;TZID=America/New_York:20260408T201500
DTSTAMP:20260419T111418
CREATED:20260205T005441Z
LAST-MODIFIED:20260329T111020Z
UID:10003437-1775674800-1775679300@www.bethiaumc.org
SUMMARY:Worship Choir Practice / In Person / Sanctuary
DESCRIPTION:
URL:https://www.bethiaumc.org/event/worship-choir-practice-in-person-sanctuary-118/
LOCATION:10700 Winterpock Rd\, Chesterfield\, VA\, United States
GEO:37.392683;-77.605362
END:VEVENT
BEGIN:VEVENT
DTSTART;TZID=America/New_York:20260408T173000
DTEND;TZID=America/New_York:20260408T203000
DTSTAMP:20260419T111418
CREATED:20260205T005441Z
LAST-MODIFIED:20260329T111020Z
UID:10003438-1775669400-1775680200@www.bethiaumc.org
SUMMARY:Focus Sports / In Person / SEED Hall
DESCRIPTION:
URL:https://www.bethiaumc.org/event/focus-sports-in-person-seed-hall-301/
LOCATION:10700 Winterpock Rd\, Chesterfield\, VA\, United States
GEO:37.392683;-77.605362
END:VEVENT
BEGIN:VEVENT
DTSTART;TZID=America/New_York:20260408T100000
DTEND;TZID=America/New_York:20260408T120000
DTSTAMP:20260419T111418
CREATED:20260205T005441Z
LAST-MODIFIED:20260329T111020Z
UID:10003436-1775642400-1775649600@www.bethiaumc.org
SUMMARY:Art Ministry / In Person / Room 103
DESCRIPTION:
URL:https://www.bethiaumc.org/event/art-ministry-in-person-room-103-114/
LOCATION:10700 Winterpock Rd\, Chesterfield\, VA\, United States
GEO:37.392683;-77.605362
END:VEVENT
BEGIN:VEVENT
DTSTART;TZID=America/New_York:20260408T100000
DTEND;TZID=America/New_York:20260408T120000
DTSTAMP:20260419T111418
CREATED:20260204T003916Z
LAST-MODIFIED:20260329T111020Z
UID:10003433-1775642400-1775649600@www.bethiaumc.org
SUMMARY:Everlasting Ladies Reunion Group / In Person / Room 1
DESCRIPTION:
URL:https://www.bethiaumc.org/event/everlasting-ladies-reunion-group-in-person-room-1-84/
LOCATION:10700 Winterpock Rd\, Chesterfield\, VA\, United States
GEO:37.392683;-77.605362
END:VEVENT
BEGIN:VEVENT
DTSTART;TZID=America/New_York:20260408T080000
DTEND;TZID=America/New_York:20260408T130000
DTSTAMP:20260419T111418
CREATED:20260205T005441Z
LAST-MODIFIED:20260329T111020Z
UID:10003435-1775635200-1775653200@www.bethiaumc.org
SUMMARY:Cedar Woods Montessori School / In Person / Room 219
DESCRIPTION:
URL:https://www.bethiaumc.org/event/cedar-woods-montessori-school-in-person-room-219-59/
LOCATION:10700 Winterpock Rd\, Chesterfield\, VA\, United States
GEO:37.392683;-77.605362
END:VEVENT
END:VCALENDAR