BEGIN:VCALENDAR
VERSION:2.0
PRODID:-//Bethia United Methodist Church - ECPv6.15.20//NONSGML v1.0//EN
CALSCALE:GREGORIAN
METHOD:PUBLISH
X-WR-CALNAME:Bethia United Methodist Church
X-ORIGINAL-URL:https://www.bethiaumc.org
X-WR-CALDESC:Events for Bethia United Methodist Church
REFRESH-INTERVAL;VALUE=DURATION:PT1H
X-Robots-Tag:noindex
X-PUBLISHED-TTL:PT1H
BEGIN:VTIMEZONE
TZID:America/New_York
BEGIN:DAYLIGHT
TZOFFSETFROM:-0500
TZOFFSETTO:-0400
TZNAME:EDT
DTSTART:20250309T070000
END:DAYLIGHT
BEGIN:STANDARD
TZOFFSETFROM:-0400
TZOFFSETTO:-0500
TZNAME:EST
DTSTART:20251102T060000
END:STANDARD
BEGIN:DAYLIGHT
TZOFFSETFROM:-0500
TZOFFSETTO:-0400
TZNAME:EDT
DTSTART:20260308T070000
END:DAYLIGHT
BEGIN:STANDARD
TZOFFSETFROM:-0400
TZOFFSETTO:-0500
TZNAME:EST
DTSTART:20261101T060000
END:STANDARD
BEGIN:DAYLIGHT
TZOFFSETFROM:-0500
TZOFFSETTO:-0400
TZNAME:EDT
DTSTART:20270314T070000
END:DAYLIGHT
BEGIN:STANDARD
TZOFFSETFROM:-0400
TZOFFSETTO:-0500
TZNAME:EST
DTSTART:20271107T060000
END:STANDARD
END:VTIMEZONE
BEGIN:VEVENT
DTSTART;TZID=America/New_York:20260424T080000
DTEND;TZID=America/New_York:20260424T130000
DTSTAMP:20260419T095019
CREATED:20260220T035432Z
LAST-MODIFIED:20260329T111026Z
UID:10003515-1777017600-1777035600@www.bethiaumc.org
SUMMARY:Cedar Woods Montessori School / In Person / Room 219
DESCRIPTION:
URL:https://www.bethiaumc.org/event/cedar-woods-montessori-school-in-person-room-219-71/
LOCATION:10700 Winterpock Rd\, Chesterfield\, VA\, United States
GEO:37.392683;-77.605362
END:VEVENT
BEGIN:VEVENT
DTSTART;TZID=America/New_York:20260424T173000
DTEND;TZID=America/New_York:20260424T203000
DTSTAMP:20260419T095019
CREATED:20260221T040701Z
LAST-MODIFIED:20260329T111026Z
UID:10003517-1777051800-1777062600@www.bethiaumc.org
SUMMARY:Focus Sports League / In Person / SEED Hall
DESCRIPTION:
URL:https://www.bethiaumc.org/event/focus-sports-league-in-person-seed-hall-14/
LOCATION:10700 Winterpock Rd\, Chesterfield\, VA\, United States
GEO:37.392683;-77.605362
END:VEVENT
BEGIN:VEVENT
DTSTART;TZID=America/New_York:20260425T070000
DTEND;TZID=America/New_York:20260425T170000
DTSTAMP:20260419T095019
CREATED:20260221T040702Z
LAST-MODIFIED:20260329T111026Z
UID:10003518-1777100400-1777136400@www.bethiaumc.org
SUMMARY:Girl Scouts Diva Derby / In Person / SEED Hall
DESCRIPTION:
URL:https://www.bethiaumc.org/event/girl-scouts-diva-derby-in-person-seed-hall/
LOCATION:10700 Winterpock Rd\, Chesterfield\, VA\, United States
GEO:37.392683;-77.605362
END:VEVENT
BEGIN:VEVENT
DTSTART;TZID=America/New_York:20260426T090000
DTEND;TZID=America/New_York:20260426T094500
DTSTAMP:20260419T095019
CREATED:20260223T044053Z
LAST-MODIFIED:20260329T111026Z
UID:10003519-1777194000-1777196700@www.bethiaumc.org
SUMMARY:Children's Sunday School / In Person / Rooms 218-219
DESCRIPTION:
URL:https://www.bethiaumc.org/event/childrens-sunday-school-in-person-rooms-218-219-134/
LOCATION:10700 Winterpock Rd\, Chesterfield\, VA\, United States
GEO:37.392683;-77.605362
END:VEVENT
BEGIN:VEVENT
DTSTART;TZID=America/New_York:20260426T090000
DTEND;TZID=America/New_York:20260426T094500
DTSTAMP:20260419T095019
CREATED:20260223T044053Z
LAST-MODIFIED:20260329T111026Z
UID:10003520-1777194000-1777196700@www.bethiaumc.org
SUMMARY:GYM Adult Sunday School Class / In Person / SEED Hall
DESCRIPTION:
URL:https://www.bethiaumc.org/event/gym-adult-sunday-school-class-in-person-seed-hall-125/
LOCATION:10700 Winterpock Rd\, Chesterfield\, VA\, United States
GEO:37.392683;-77.605362
END:VEVENT
BEGIN:VEVENT
DTSTART;TZID=America/New_York:20260426T090000
DTEND;TZID=America/New_York:20260426T094500
DTSTAMP:20260419T095019
CREATED:20260223T044054Z
LAST-MODIFIED:20260329T111026Z
UID:10003521-1777194000-1777196700@www.bethiaumc.org
SUMMARY:SALT Adult Sunday School / In Person / Room 103
DESCRIPTION:
URL:https://www.bethiaumc.org/event/salt-adult-sunday-school-in-person-room-103-126/
LOCATION:10700 Winterpock Rd\, Chesterfield\, VA\, United States
GEO:37.392683;-77.605362
END:VEVENT
BEGIN:VEVENT
DTSTART;TZID=America/New_York:20260426T090000
DTEND;TZID=America/New_York:20260426T094500
DTSTAMP:20260419T095019
CREATED:20260223T044054Z
LAST-MODIFIED:20260329T111027Z
UID:10003522-1777194000-1777196700@www.bethiaumc.org
SUMMARY:Adult Sunday School w/ David Jones / In Person / Room 1
DESCRIPTION:
URL:https://www.bethiaumc.org/event/adult-sunday-school-w-david-jones-in-person-room-1-126/
LOCATION:10700 Winterpock Rd\, Chesterfield\, VA\, United States
GEO:37.392683;-77.605362
END:VEVENT
BEGIN:VEVENT
DTSTART;TZID=America/New_York:20260426T090000
DTEND;TZID=America/New_York:20260426T094500
DTSTAMP:20260419T095019
CREATED:20260223T044054Z
LAST-MODIFIED:20260329T111027Z
UID:10003523-1777194000-1777196700@www.bethiaumc.org
SUMMARY:Preschool Sunday School / In Person / Rooms 105
DESCRIPTION:
URL:https://www.bethiaumc.org/event/preschool-sunday-school-in-person-rooms-105-39/
LOCATION:10700 Winterpock Rd\, Chesterfield\, VA\, United States
GEO:37.392683;-77.605362
END:VEVENT
BEGIN:VEVENT
DTSTART;TZID=America/New_York:20260426T090000
DTEND;TZID=America/New_York:20260426T094500
DTSTAMP:20260419T095019
CREATED:20260223T044054Z
LAST-MODIFIED:20260329T111027Z
UID:10003524-1777194000-1777196700@www.bethiaumc.org
SUMMARY:Youth Sunday School (MS and HS) / In Person / Bistro
DESCRIPTION:
URL:https://www.bethiaumc.org/event/youth-sunday-school-ms-and-hs-in-person-bistro-133/
LOCATION:10700 Winterpock Rd\, Chesterfield\, VA\, United States
GEO:37.392683;-77.605362
END:VEVENT
BEGIN:VEVENT
DTSTART;TZID=America/New_York:20260426T100000
DTEND;TZID=America/New_York:20260426T110000
DTSTAMP:20260419T095019
CREATED:20260223T044054Z
LAST-MODIFIED:20260329T111027Z
UID:10003525-1777197600-1777201200@www.bethiaumc.org
SUMMARY:10 am Sunday Worship / In Person / Sanctuary
DESCRIPTION:
URL:https://www.bethiaumc.org/event/10-am-sunday-worship-in-person-sanctuary-31/
LOCATION:10700 Winterpock Rd\, Chesterfield\, VA\, United States
GEO:37.392683;-77.605362
END:VEVENT
BEGIN:VEVENT
DTSTART;TZID=America/New_York:20260426T160000
DTEND;TZID=America/New_York:20260426T173000
DTSTAMP:20260419T095019
CREATED:20260223T044054Z
LAST-MODIFIED:20260329T111027Z
UID:10003526-1777219200-1777224600@www.bethiaumc.org
SUMMARY:Youth Group / In Person / SEED Hall & Room 103
DESCRIPTION:
URL:https://www.bethiaumc.org/event/youth-group-in-person-seed-hall-room-103-109/
LOCATION:10700 Winterpock Rd\, Chesterfield\, VA\, United States
GEO:37.392683;-77.605362
END:VEVENT
BEGIN:VEVENT
DTSTART;TZID=America/New_York:20260426T190000
DTEND;TZID=America/New_York:20260426T203000
DTSTAMP:20260419T095019
CREATED:20260223T044054Z
LAST-MODIFIED:20260329T111027Z
UID:10003527-1777230000-1777235400@www.bethiaumc.org
SUMMARY:AL-ANON / In Person / Room 103
DESCRIPTION:
URL:https://www.bethiaumc.org/event/al-anon-in-person-room-103-67/
LOCATION:10700 Winterpock Rd\, Chesterfield\, VA\, United States
GEO:37.392683;-77.605362
END:VEVENT
BEGIN:VEVENT
DTSTART;TZID=America/New_York:20260427T080000
DTEND;TZID=America/New_York:20260427T113000
DTSTAMP:20260419T095019
CREATED:20260224T045446Z
LAST-MODIFIED:20260329T111027Z
UID:10003529-1777276800-1777289400@www.bethiaumc.org
SUMMARY:Pickleball / In Person / SEED Hall
DESCRIPTION:
URL:https://www.bethiaumc.org/event/pickleball-in-person-seed-hall-377/
LOCATION:10700 Winterpock Rd\, Chesterfield\, VA\, United States
GEO:37.392683;-77.605362
END:VEVENT
BEGIN:VEVENT
DTSTART;TZID=America/New_York:20260427T080000
DTEND;TZID=America/New_York:20260427T130000
DTSTAMP:20260419T095019
CREATED:20260224T045445Z
LAST-MODIFIED:20260329T111027Z
UID:10003528-1777276800-1777294800@www.bethiaumc.org
SUMMARY:Cedar Woods Montessori School / In Person / Room 219
DESCRIPTION:
URL:https://www.bethiaumc.org/event/cedar-woods-montessori-school-in-person-room-219-72/
LOCATION:10700 Winterpock Rd\, Chesterfield\, VA\, United States
GEO:37.392683;-77.605362
END:VEVENT
BEGIN:VEVENT
DTSTART;TZID=America/New_York:20260427T170000
DTEND;TZID=America/New_York:20260427T180000
DTSTAMP:20260419T095019
CREATED:20260224T045446Z
LAST-MODIFIED:20260329T111027Z
UID:10003532-1777309200-1777312800@www.bethiaumc.org
SUMMARY:Ignite Performance Youth Sports Development / In Person / SEED Hall
DESCRIPTION:
URL:https://www.bethiaumc.org/event/ignite-performance-youth-sports-development-in-person-seed-hall-15/
LOCATION:10700 Winterpock Rd\, Chesterfield\, VA\, United States
GEO:37.392683;-77.605362
END:VEVENT
BEGIN:VEVENT
DTSTART;TZID=America/New_York:20260427T180000
DTEND;TZID=America/New_York:20260427T203000
DTSTAMP:20260419T095019
CREATED:20260224T045446Z
LAST-MODIFIED:20260329T111027Z
UID:10003531-1777312800-1777321800@www.bethiaumc.org
SUMMARY:Boy Scout Troop 2806 / In Person / Sanctuary
DESCRIPTION:
URL:https://www.bethiaumc.org/event/boy-scout-troop-2806-in-person-sanctuary-13/
LOCATION:10700 Winterpock Rd\, Chesterfield\, VA\, United States
GEO:37.392683;-77.605362
END:VEVENT
BEGIN:VEVENT
DTSTART;TZID=America/New_York:20260427T180000
DTEND;TZID=America/New_York:20260427T210000
DTSTAMP:20260419T095019
CREATED:20260327T103526Z
LAST-MODIFIED:20260329T111027Z
UID:10003691-1777312800-1777323600@www.bethiaumc.org
SUMMARY:Troop 2822 Court of Honor / In Person / Sanctuary & Bistro
DESCRIPTION:
URL:https://www.bethiaumc.org/event/troop-2822-court-of-honor-in-person-sanctuary-bistro/
LOCATION:10700 Winterpock Rd\, Chesterfield\, VA\, United States
GEO:37.392683;-77.605362
END:VEVENT
BEGIN:VEVENT
DTSTART;TZID=America/New_York:20260427T183000
DTEND;TZID=America/New_York:20260427T193000
DTSTAMP:20260419T095019
CREATED:20260224T045446Z
LAST-MODIFIED:20260329T111027Z
UID:10003530-1777314600-1777318200@www.bethiaumc.org
SUMMARY:Cub Scout Pack 2822 / In Person / SEED Hall
DESCRIPTION:
URL:https://www.bethiaumc.org/event/cub-scout-pack-2822-in-person-seed-hall-4/
LOCATION:10700 Winterpock Rd\, Chesterfield\, VA\, United States
GEO:37.392683;-77.605362
END:VEVENT
BEGIN:VEVENT
DTSTART;TZID=America/New_York:20260428T080000
DTEND;TZID=America/New_York:20260428T130000
DTSTAMP:20260419T095019
CREATED:20260225T050937Z
LAST-MODIFIED:20260329T111028Z
UID:10003533-1777363200-1777381200@www.bethiaumc.org
SUMMARY:Cedar Woods Montessori School / In Person / Room 219
DESCRIPTION:
URL:https://www.bethiaumc.org/event/cedar-woods-montessori-school-in-person-room-219-73/
LOCATION:10700 Winterpock Rd\, Chesterfield\, VA\, United States
GEO:37.392683;-77.605362
END:VEVENT
BEGIN:VEVENT
DTSTART;TZID=America/New_York:20260428T100000
DTEND;TZID=America/New_York:20260428T140000
DTSTAMP:20260419T095019
CREATED:20260327T103527Z
LAST-MODIFIED:20260329T111027Z
UID:10003692-1777370400-1777384800@www.bethiaumc.org
SUMMARY:KAIROS Cookie Bake / In Person / SEED Hall & Kitchen
DESCRIPTION:
URL:https://www.bethiaumc.org/event/kairos-cookie-bake-in-person-seed-hall-kitchen/
LOCATION:10700 Winterpock Rd\, Chesterfield\, VA\, United States
GEO:37.392683;-77.605362
END:VEVENT
BEGIN:VEVENT
DTSTART;TZID=America/New_York:20260428T173000
DTEND;TZID=America/New_York:20260428T190000
DTSTAMP:20260419T095019
CREATED:20260225T050937Z
LAST-MODIFIED:20260329T111028Z
UID:10003534-1777397400-1777402800@www.bethiaumc.org
SUMMARY:Focus Sports / In Person / SEED Hall
DESCRIPTION:
URL:https://www.bethiaumc.org/event/focus-sports-in-person-seed-hall-308/
LOCATION:10700 Winterpock Rd\, Chesterfield\, VA\, United States
GEO:37.392683;-77.605362
END:VEVENT
BEGIN:VEVENT
DTSTART;TZID=America/New_York:20260428T183000
DTEND;TZID=America/New_York:20260428T203000
DTSTAMP:20260419T095019
CREATED:20260225T050938Z
LAST-MODIFIED:20260329T111028Z
UID:10003535-1777401000-1777408200@www.bethiaumc.org
SUMMARY:Trustees Meeting / In Person / Room 103
DESCRIPTION:
URL:https://www.bethiaumc.org/event/trustees-meeting-in-person-room-103-30/
LOCATION:10700 Winterpock Rd\, Chesterfield\, VA\, United States
GEO:37.392683;-77.605362
END:VEVENT
BEGIN:VEVENT
DTSTART;TZID=America/New_York:20260428T190000
DTEND;TZID=America/New_York:20260428T220000
DTSTAMP:20260419T095019
CREATED:20260225T050938Z
LAST-MODIFIED:20260329T111028Z
UID:10003536-1777402800-1777413600@www.bethiaumc.org
SUMMARY:Basketball Open Gym / In Person / SEED Hall
DESCRIPTION:
URL:https://www.bethiaumc.org/event/basketball-open-gym-in-person-seed-hall-115/
LOCATION:10700 Winterpock Rd\, Chesterfield\, VA\, United States
GEO:37.392683;-77.605362
END:VEVENT
BEGIN:VEVENT
DTSTART;TZID=America/New_York:20260429T080000
DTEND;TZID=America/New_York:20260429T113000
DTSTAMP:20260419T095019
CREATED:20260226T052226Z
LAST-MODIFIED:20260329T111028Z
UID:10003540-1777449600-1777462200@www.bethiaumc.org
SUMMARY:Pickleball / In Person / SEED Hall
DESCRIPTION:
URL:https://www.bethiaumc.org/event/pickleball-in-person-seed-hall-378/
LOCATION:10700 Winterpock Rd\, Chesterfield\, VA\, United States
GEO:37.392683;-77.605362
END:VEVENT
BEGIN:VEVENT
DTSTART;TZID=America/New_York:20260429T080000
DTEND;TZID=America/New_York:20260429T130000
DTSTAMP:20260419T095019
CREATED:20260226T052225Z
LAST-MODIFIED:20260329T111028Z
UID:10003538-1777449600-1777467600@www.bethiaumc.org
SUMMARY:Cedar Woods Montessori School / In Person / Room 219
DESCRIPTION:
URL:https://www.bethiaumc.org/event/cedar-woods-montessori-school-in-person-room-219-74/
LOCATION:10700 Winterpock Rd\, Chesterfield\, VA\, United States
GEO:37.392683;-77.605362
END:VEVENT
BEGIN:VEVENT
DTSTART;TZID=America/New_York:20260429T100000
DTEND;TZID=America/New_York:20260429T120000
DTSTAMP:20260419T095019
CREATED:20260226T052225Z
LAST-MODIFIED:20260329T111028Z
UID:10003537-1777456800-1777464000@www.bethiaumc.org
SUMMARY:Art Ministry / In Person / Room 103
DESCRIPTION:
URL:https://www.bethiaumc.org/event/art-ministry-in-person-room-103-117/
LOCATION:10700 Winterpock Rd\, Chesterfield\, VA\, United States
GEO:37.392683;-77.605362
END:VEVENT
BEGIN:VEVENT
DTSTART;TZID=America/New_York:20260429T100000
DTEND;TZID=America/New_York:20260429T120000
DTSTAMP:20260419T095019
CREATED:20260226T052225Z
LAST-MODIFIED:20260329T111028Z
UID:10003539-1777456800-1777464000@www.bethiaumc.org
SUMMARY:Everlasting Ladies Reunion Group / In Person / Room 1
DESCRIPTION:
URL:https://www.bethiaumc.org/event/everlasting-ladies-reunion-group-in-person-room-1-87/
LOCATION:10700 Winterpock Rd\, Chesterfield\, VA\, United States
GEO:37.392683;-77.605362
END:VEVENT
BEGIN:VEVENT
DTSTART;TZID=America/New_York:20260429T173000
DTEND;TZID=America/New_York:20260429T203000
DTSTAMP:20260419T095019
CREATED:20260226T052226Z
LAST-MODIFIED:20260329T111028Z
UID:10003543-1777483800-1777494600@www.bethiaumc.org
SUMMARY:Focus Sports / In Person / SEED Hall
DESCRIPTION:
URL:https://www.bethiaumc.org/event/focus-sports-in-person-seed-hall-309/
LOCATION:10700 Winterpock Rd\, Chesterfield\, VA\, United States
GEO:37.392683;-77.605362
END:VEVENT
BEGIN:VEVENT
DTSTART;TZID=America/New_York:20260429T190000
DTEND;TZID=America/New_York:20260429T201500
DTSTAMP:20260419T095019
CREATED:20260226T052226Z
LAST-MODIFIED:20260329T111028Z
UID:10003542-1777489200-1777493700@www.bethiaumc.org
SUMMARY:Worship Choir Practice / In Person / Sanctuary
DESCRIPTION:
URL:https://www.bethiaumc.org/event/worship-choir-practice-in-person-sanctuary-121/
LOCATION:10700 Winterpock Rd\, Chesterfield\, VA\, United States
GEO:37.392683;-77.605362
END:VEVENT
BEGIN:VEVENT
DTSTART;TZID=America/New_York:20260429T190000
DTEND;TZID=America/New_York:20260429T203000
DTSTAMP:20260419T095019
CREATED:20260226T052226Z
LAST-MODIFIED:20260329T111028Z
UID:10003541-1777489200-1777494600@www.bethiaumc.org
SUMMARY:AL-ANON / In Person / Room 215
DESCRIPTION:
URL:https://www.bethiaumc.org/event/al-anon-in-person-room-215-63/
LOCATION:10700 Winterpock Rd\, Chesterfield\, VA\, United States
GEO:37.392683;-77.605362
END:VEVENT
END:VCALENDAR