BEGIN:VCALENDAR
VERSION:2.0
PRODID:-//Bethia United Methodist Church - ECPv6.15.20//NONSGML v1.0//EN
CALSCALE:GREGORIAN
METHOD:PUBLISH
X-ORIGINAL-URL:https://www.bethiaumc.org
X-WR-CALDESC:Events for Bethia United Methodist Church
REFRESH-INTERVAL;VALUE=DURATION:PT1H
X-Robots-Tag:noindex
X-PUBLISHED-TTL:PT1H
BEGIN:VTIMEZONE
TZID:America/New_York
BEGIN:DAYLIGHT
TZOFFSETFROM:-0500
TZOFFSETTO:-0400
TZNAME:EDT
DTSTART:20250309T070000
END:DAYLIGHT
BEGIN:STANDARD
TZOFFSETFROM:-0400
TZOFFSETTO:-0500
TZNAME:EST
DTSTART:20251102T060000
END:STANDARD
BEGIN:DAYLIGHT
TZOFFSETFROM:-0500
TZOFFSETTO:-0400
TZNAME:EDT
DTSTART:20260308T070000
END:DAYLIGHT
BEGIN:STANDARD
TZOFFSETFROM:-0400
TZOFFSETTO:-0500
TZNAME:EST
DTSTART:20261101T060000
END:STANDARD
BEGIN:DAYLIGHT
TZOFFSETFROM:-0500
TZOFFSETTO:-0400
TZNAME:EDT
DTSTART:20270314T070000
END:DAYLIGHT
BEGIN:STANDARD
TZOFFSETFROM:-0400
TZOFFSETTO:-0500
TZNAME:EST
DTSTART:20271107T060000
END:STANDARD
END:VTIMEZONE
BEGIN:VEVENT
DTSTART;TZID=America/New_York:20260408T080000
DTEND;TZID=America/New_York:20260408T130000
DTSTAMP:20260423T095500
CREATED:20260205T005441Z
LAST-MODIFIED:20260329T111020Z
UID:10003435-1775635200-1775653200@www.bethiaumc.org
SUMMARY:Cedar Woods Montessori School / In Person / Room 219
DESCRIPTION:
URL:https://www.bethiaumc.org/event/cedar-woods-montessori-school-in-person-room-219-59/
LOCATION:10700 Winterpock Rd\, Chesterfield\, VA\, United States
GEO:37.392683;-77.605362
END:VEVENT
BEGIN:VEVENT
DTSTART;TZID=America/New_York:20260408T080000
DTEND;TZID=America/New_York:20260408T113000
DTSTAMP:20260423T095500
CREATED:20260205T005441Z
LAST-MODIFIED:20260329T111020Z
UID:10003434-1775635200-1775647800@www.bethiaumc.org
SUMMARY:Pickleball / In Person / SEED Hall
DESCRIPTION:
URL:https://www.bethiaumc.org/event/pickleball-in-person-seed-hall-369/
LOCATION:10700 Winterpock Rd\, Chesterfield\, VA\, United States
GEO:37.392683;-77.605362
END:VEVENT
BEGIN:VEVENT
DTSTART;TZID=America/New_York:20260407T190000
DTEND;TZID=America/New_York:20260407T220000
DTSTAMP:20260423T095500
CREATED:20260203T002541Z
LAST-MODIFIED:20260329T111020Z
UID:10003430-1775588400-1775599200@www.bethiaumc.org
SUMMARY:Basketball Open Gym / In Person / SEED Hall
DESCRIPTION:
URL:https://www.bethiaumc.org/event/basketball-open-gym-in-person-seed-hall-113/
LOCATION:10700 Winterpock Rd\, Chesterfield\, VA\, United States
GEO:37.392683;-77.605362
END:VEVENT
BEGIN:VEVENT
DTSTART;TZID=America/New_York:20260407T190000
DTEND;TZID=America/New_York:20260407T200000
DTSTAMP:20260423T095500
CREATED:20260204T003916Z
LAST-MODIFIED:20260329T111020Z
UID:10003432-1775588400-1775592000@www.bethiaumc.org
SUMMARY:Welcome Home Team / ZOOM
DESCRIPTION:
URL:https://www.bethiaumc.org/event/welcome-home-team-zoom-27/
LOCATION:10700 Winterpock Rd\, Chesterfield\, VA\, United States
GEO:37.392683;-77.605362
END:VEVENT
BEGIN:VEVENT
DTSTART;TZID=America/New_York:20260407T173000
DTEND;TZID=America/New_York:20260407T190000
DTSTAMP:20260423T095500
CREATED:20260204T003915Z
LAST-MODIFIED:20260329T111020Z
UID:10003431-1775583000-1775588400@www.bethiaumc.org
SUMMARY:Focus Sports / In Person / SEED Hall
DESCRIPTION:
URL:https://www.bethiaumc.org/event/focus-sports-in-person-seed-hall-300/
LOCATION:10700 Winterpock Rd\, Chesterfield\, VA\, United States
GEO:37.392683;-77.605362
END:VEVENT
BEGIN:VEVENT
DTSTART;TZID=America/New_York:20260407T080000
DTEND;TZID=America/New_York:20260407T130000
DTSTAMP:20260423T095500
CREATED:20260203T002541Z
LAST-MODIFIED:20260329T111020Z
UID:10003429-1775548800-1775566800@www.bethiaumc.org
SUMMARY:Cedar Woods Montessori School / In Person / Room 219
DESCRIPTION:
URL:https://www.bethiaumc.org/event/cedar-woods-montessori-school-in-person-room-219-58/
LOCATION:10700 Winterpock Rd\, Chesterfield\, VA\, United States
GEO:37.392683;-77.605362
END:VEVENT
BEGIN:VEVENT
DTSTART;TZID=America/New_York:20260406T183000
DTEND;TZID=America/New_York:20260406T193000
DTSTAMP:20260423T095500
CREATED:20260203T002540Z
LAST-MODIFIED:20260329T111019Z
UID:10003428-1775500200-1775503800@www.bethiaumc.org
SUMMARY:Cub Scout Pack 2822 / In Person / SEED Hall\, Room 103\, Room 105 & Bistro
DESCRIPTION:
URL:https://www.bethiaumc.org/event/cub-scout-pack-2822-in-person-seed-hall-room-103-room-105-bistro-37/
LOCATION:10700 Winterpock Rd\, Chesterfield\, VA\, United States
GEO:37.392683;-77.605362
END:VEVENT
BEGIN:VEVENT
DTSTART;TZID=America/New_York:20260406T180000
DTEND;TZID=America/New_York:20260406T203000
DTSTAMP:20260423T095500
CREATED:20260203T002540Z
LAST-MODIFIED:20260329T111019Z
UID:10003427-1775498400-1775507400@www.bethiaumc.org
SUMMARY:Boy Scout Troop 2806 / In Person / Sanctuary
DESCRIPTION:
URL:https://www.bethiaumc.org/event/boy-scout-troop-2806-in-person-sanctuary-10/
LOCATION:10700 Winterpock Rd\, Chesterfield\, VA\, United States
GEO:37.392683;-77.605362
END:VEVENT
BEGIN:VEVENT
DTSTART;TZID=America/New_York:20260406T170000
DTEND;TZID=America/New_York:20260406T180000
DTSTAMP:20260423T095501
CREATED:20260203T002540Z
LAST-MODIFIED:20260329T111019Z
UID:10003426-1775494800-1775498400@www.bethiaumc.org
SUMMARY:Ignite Performance Youth Sports Development / In Person / SEED Hall
DESCRIPTION:
URL:https://www.bethiaumc.org/event/ignite-performance-youth-sports-development-in-person-seed-hall-10/
LOCATION:10700 Winterpock Rd\, Chesterfield\, VA\, United States
GEO:37.392683;-77.605362
END:VEVENT
BEGIN:VEVENT
DTSTART;TZID=America/New_York:20260406T100000
DTEND;TZID=America/New_York:20260406T120000
DTSTAMP:20260423T095501
CREATED:20260128T233544Z
LAST-MODIFIED:20260329T111019Z
UID:10003407-1775469600-1775476800@www.bethiaumc.org
SUMMARY:Prayer Shawl Ministry / In Person / Room 103
DESCRIPTION:
URL:https://www.bethiaumc.org/event/prayer-shawl-ministry-in-person-room-103-48/
LOCATION:10700 Winterpock Rd\, Chesterfield\, VA\, United States
GEO:37.392683;-77.605362
END:VEVENT
BEGIN:VEVENT
DTSTART;TZID=America/New_York:20260406T080000
DTEND;TZID=America/New_York:20260406T130000
DTSTAMP:20260423T095501
CREATED:20260202T000816Z
LAST-MODIFIED:20260329T111019Z
UID:10003424-1775462400-1775480400@www.bethiaumc.org
SUMMARY:Cedar Woods Montessori School / In Person / Room 219
DESCRIPTION:
URL:https://www.bethiaumc.org/event/cedar-woods-montessori-school-in-person-room-219-57/
LOCATION:10700 Winterpock Rd\, Chesterfield\, VA\, United States
GEO:37.392683;-77.605362
END:VEVENT
BEGIN:VEVENT
DTSTART;TZID=America/New_York:20260406T080000
DTEND;TZID=America/New_York:20260406T113000
DTSTAMP:20260423T095501
CREATED:20260202T000817Z
LAST-MODIFIED:20260329T111019Z
UID:10003425-1775462400-1775475000@www.bethiaumc.org
SUMMARY:Pickleball / In Person / SEED Hall
DESCRIPTION:
URL:https://www.bethiaumc.org/event/pickleball-in-person-seed-hall-368/
LOCATION:10700 Winterpock Rd\, Chesterfield\, VA\, United States
GEO:37.392683;-77.605362
END:VEVENT
BEGIN:VEVENT
DTSTART;TZID=America/New_York:20260405T190000
DTEND;TZID=America/New_York:20260405T203000
DTSTAMP:20260423T095501
CREATED:20260128T233544Z
LAST-MODIFIED:20260329T111038Z
UID:10003406-1775415600-1775421000@www.bethiaumc.org
SUMMARY:AL-ANON / In Person / Room 103
DESCRIPTION:
URL:https://www.bethiaumc.org/event/al-anon-in-person-room-103-64/
LOCATION:10700 Winterpock Rd\, Chesterfield\, VA\, United States
GEO:37.392683;-77.605362
END:VEVENT
BEGIN:VEVENT
DTSTART;TZID=America/New_York:20260405T160000
DTEND;TZID=America/New_York:20260405T173000
DTSTAMP:20260423T095501
CREATED:20260128T233544Z
LAST-MODIFIED:20260329T111038Z
UID:10003405-1775404800-1775410200@www.bethiaumc.org
SUMMARY:Youth Group / In Person / SEED Hall & Room 103
DESCRIPTION:
URL:https://www.bethiaumc.org/event/youth-group-in-person-seed-hall-room-103-106/
LOCATION:10700 Winterpock Rd\, Chesterfield\, VA\, United States
GEO:37.392683;-77.605362
END:VEVENT
BEGIN:VEVENT
DTSTART;TZID=America/New_York:20260405T100000
DTEND;TZID=America/New_York:20260405T110000
DTSTAMP:20260423T095501
CREATED:20260128T233543Z
LAST-MODIFIED:20260329T111038Z
UID:10003404-1775383200-1775386800@www.bethiaumc.org
SUMMARY:10 am Sunday Worship / In Person / Sanctuary
DESCRIPTION:
URL:https://www.bethiaumc.org/event/10-am-sunday-worship-in-person-sanctuary-28/
LOCATION:10700 Winterpock Rd\, Chesterfield\, VA\, United States
GEO:37.392683;-77.605362
END:VEVENT
BEGIN:VEVENT
DTSTART;TZID=America/New_York:20260405T090000
DTEND;TZID=America/New_York:20260405T094500
DTSTAMP:20260423T095501
CREATED:20260128T233543Z
LAST-MODIFIED:20260329T111038Z
UID:10003401-1775379600-1775382300@www.bethiaumc.org
SUMMARY:Adult Sunday School w/ David Jones / In Person / Room 1
DESCRIPTION:
URL:https://www.bethiaumc.org/event/adult-sunday-school-w-david-jones-in-person-room-1-123/
LOCATION:10700 Winterpock Rd\, Chesterfield\, VA\, United States
GEO:37.392683;-77.605362
END:VEVENT
BEGIN:VEVENT
DTSTART;TZID=America/New_York:20260405T090000
DTEND;TZID=America/New_York:20260405T094500
DTSTAMP:20260423T095501
CREATED:20260128T233543Z
LAST-MODIFIED:20260329T111038Z
UID:10003402-1775379600-1775382300@www.bethiaumc.org
SUMMARY:SALT Adult Sunday School / In Person / Room 103
DESCRIPTION:
URL:https://www.bethiaumc.org/event/salt-adult-sunday-school-in-person-room-103-123/
LOCATION:10700 Winterpock Rd\, Chesterfield\, VA\, United States
GEO:37.392683;-77.605362
END:VEVENT
BEGIN:VEVENT
DTSTART;TZID=America/New_York:20260405T090000
DTEND;TZID=America/New_York:20260405T094500
DTSTAMP:20260423T095501
CREATED:20260128T233543Z
LAST-MODIFIED:20260329T111038Z
UID:10003403-1775379600-1775382300@www.bethiaumc.org
SUMMARY:Preschool Sunday School / In Person / Rooms 105
DESCRIPTION:
URL:https://www.bethiaumc.org/event/preschool-sunday-school-in-person-rooms-105-36/
LOCATION:10700 Winterpock Rd\, Chesterfield\, VA\, United States
GEO:37.392683;-77.605362
END:VEVENT
BEGIN:VEVENT
DTSTART;TZID=America/New_York:20260405T090000
DTEND;TZID=America/New_York:20260405T094500
DTSTAMP:20260423T095501
CREATED:20260127T232239Z
LAST-MODIFIED:20260329T111038Z
UID:10003400-1775379600-1775382300@www.bethiaumc.org
SUMMARY:GYM Adult Sunday School Class / In Person / SEED Hall
DESCRIPTION:
URL:https://www.bethiaumc.org/event/gym-adult-sunday-school-class-in-person-seed-hall-122/
LOCATION:10700 Winterpock Rd\, Chesterfield\, VA\, United States
GEO:37.392683;-77.605362
END:VEVENT
BEGIN:VEVENT
DTSTART;TZID=America/New_York:20260405T090000
DTEND;TZID=America/New_York:20260405T094500
DTSTAMP:20260423T095501
CREATED:20260127T232238Z
LAST-MODIFIED:20260329T111038Z
UID:10003398-1775379600-1775382300@www.bethiaumc.org
SUMMARY:Children's Sunday School / In Person / Rooms 218-219
DESCRIPTION:
URL:https://www.bethiaumc.org/event/childrens-sunday-school-in-person-rooms-218-219-131/
LOCATION:10700 Winterpock Rd\, Chesterfield\, VA\, United States
GEO:37.392683;-77.605362
END:VEVENT
BEGIN:VEVENT
DTSTART;TZID=America/New_York:20260405T090000
DTEND;TZID=America/New_York:20260405T094500
DTSTAMP:20260423T095501
CREATED:20260127T232238Z
LAST-MODIFIED:20260329T111038Z
UID:10003399-1775379600-1775382300@www.bethiaumc.org
SUMMARY:Youth Sunday School (MS and HS) / In Person / Bistro
DESCRIPTION:
URL:https://www.bethiaumc.org/event/youth-sunday-school-ms-and-hs-in-person-bistro-130/
LOCATION:10700 Winterpock Rd\, Chesterfield\, VA\, United States
GEO:37.392683;-77.605362
END:VEVENT
BEGIN:VEVENT
DTSTART;TZID=America/New_York:20260403T173000
DTEND;TZID=America/New_York:20260403T203000
DTSTAMP:20260423T095501
CREATED:20260127T232238Z
LAST-MODIFIED:20260326T102418Z
UID:10003397-1775237400-1775248200@www.bethiaumc.org
SUMMARY:Focus Sports League / In Person / SEED Hall
DESCRIPTION:
URL:https://www.bethiaumc.org/event/focus-sports-league-in-person-seed-hall-12/
LOCATION:10700 Winterpock Rd\, Chesterfield\, VA\, United States
GEO:37.392683;-77.605362
END:VEVENT
BEGIN:VEVENT
DTSTART;TZID=America/New_York:20260403T080000
DTEND;TZID=America/New_York:20260403T113000
DTSTAMP:20260423T095501
CREATED:20260126T232050Z
LAST-MODIFIED:20260329T111038Z
UID:10003396-1775203200-1775215800@www.bethiaumc.org
SUMMARY:Pickleball / In Person / SEED Hall
DESCRIPTION:
URL:https://www.bethiaumc.org/event/pickleball-in-person-seed-hall-367/
LOCATION:10700 Winterpock Rd\, Chesterfield\, VA\, United States
GEO:37.392683;-77.605362
END:VEVENT
BEGIN:VEVENT
DTSTART;TZID=America/New_York:20260402T173000
DTEND;TZID=America/New_York:20260402T203000
DTSTAMP:20260423T095501
CREATED:20260126T232050Z
LAST-MODIFIED:20260326T102418Z
UID:10003395-1775151000-1775161800@www.bethiaumc.org
SUMMARY:Focus Sports / In Person / SEED Hall
DESCRIPTION:
URL:https://www.bethiaumc.org/event/focus-sports-in-person-seed-hall-299/
LOCATION:10700 Winterpock Rd\, Chesterfield\, VA\, United States
GEO:37.392683;-77.605362
END:VEVENT
BEGIN:VEVENT
DTSTART;TZID=America/New_York:20260402T093000
DTEND;TZID=America/New_York:20260402T113000
DTSTAMP:20260423T095501
CREATED:20260126T232050Z
LAST-MODIFIED:20260329T111026Z
UID:10003394-1775122200-1775129400@www.bethiaumc.org
SUMMARY:Bible Study / In Person / Room 103
DESCRIPTION:
URL:https://www.bethiaumc.org/event/bible-study-in-person-room-103-114/
LOCATION:10700 Winterpock Rd\, Chesterfield\, VA\, United States
GEO:37.392683;-77.605362
END:VEVENT
BEGIN:VEVENT
DTSTART;TZID=America/New_York:20260401T190000
DTEND;TZID=America/New_York:20260401T203000
DTSTAMP:20260423T095501
CREATED:20260125T232049Z
LAST-MODIFIED:20260329T111026Z
UID:10003387-1775070000-1775075400@www.bethiaumc.org
SUMMARY:AL-ANON / In Person / Room 215
DESCRIPTION:
URL:https://www.bethiaumc.org/event/al-anon-in-person-room-215-59/
LOCATION:10700 Winterpock Rd\, Chesterfield\, VA\, United States
GEO:37.392683;-77.605362
END:VEVENT
BEGIN:VEVENT
DTSTART;TZID=America/New_York:20260401T190000
DTEND;TZID=America/New_York:20260401T203000
DTSTAMP:20260423T095501
CREATED:20260125T232049Z
LAST-MODIFIED:20260329T111026Z
UID:10003388-1775070000-1775075400@www.bethiaumc.org
SUMMARY:STEM Venture Crew Troop 2822 Planning Meeting / In Person / Room 103 & 105
DESCRIPTION:
URL:https://www.bethiaumc.org/event/stem-venture-crew-troop-2822-planning-meeting-in-person-room-103-105-33/
LOCATION:10700 Winterpock Rd\, Chesterfield\, VA\, United States
GEO:37.392683;-77.605362
END:VEVENT
BEGIN:VEVENT
DTSTART;TZID=America/New_York:20260401T190000
DTEND;TZID=America/New_York:20260401T201500
DTSTAMP:20260423T095501
CREATED:20260125T232049Z
LAST-MODIFIED:20260329T111026Z
UID:10003389-1775070000-1775074500@www.bethiaumc.org
SUMMARY:Worship Choir Practice / In Person / Sanctuary
DESCRIPTION:
URL:https://www.bethiaumc.org/event/worship-choir-practice-in-person-sanctuary-117/
LOCATION:10700 Winterpock Rd\, Chesterfield\, VA\, United States
GEO:37.392683;-77.605362
END:VEVENT
BEGIN:VEVENT
DTSTART;TZID=America/New_York:20260401T173000
DTEND;TZID=America/New_York:20260401T203000
DTSTAMP:20260423T095501
CREATED:20260125T232049Z
LAST-MODIFIED:20260326T102417Z
UID:10003390-1775064600-1775075400@www.bethiaumc.org
SUMMARY:Focus Sports / In Person / SEED Hall
DESCRIPTION:
URL:https://www.bethiaumc.org/event/focus-sports-in-person-seed-hall-298/
LOCATION:10700 Winterpock Rd\, Chesterfield\, VA\, United States
GEO:37.392683;-77.605362
END:VEVENT
BEGIN:VEVENT
DTSTART;TZID=America/New_York:20260401T173000
DTEND;TZID=America/New_York:20260401T190000
DTSTAMP:20260423T095501
CREATED:20260125T232049Z
LAST-MODIFIED:20260329T111026Z
UID:10003386-1775064600-1775070000@www.bethiaumc.org
SUMMARY:Stephen Ministry / In Person / Library & Prayer Chapel
DESCRIPTION:
URL:https://www.bethiaumc.org/event/stephen-ministry-in-person-library-prayer-chapel-40/
LOCATION:10700 Winterpock Rd\, Chesterfield\, VA\, United States
GEO:37.392683;-77.605362
END:VEVENT
END:VCALENDAR