BEGIN:VCALENDAR
VERSION:2.0
PRODID:-//Bethia United Methodist Church - ECPv6.15.20//NONSGML v1.0//EN
CALSCALE:GREGORIAN
METHOD:PUBLISH
X-WR-CALNAME:Bethia United Methodist Church
X-ORIGINAL-URL:https://www.bethiaumc.org
X-WR-CALDESC:Events for Bethia United Methodist Church
REFRESH-INTERVAL;VALUE=DURATION:PT1H
X-Robots-Tag:noindex
X-PUBLISHED-TTL:PT1H
BEGIN:VTIMEZONE
TZID:America/New_York
BEGIN:DAYLIGHT
TZOFFSETFROM:-0500
TZOFFSETTO:-0400
TZNAME:EDT
DTSTART:20250309T070000
END:DAYLIGHT
BEGIN:STANDARD
TZOFFSETFROM:-0400
TZOFFSETTO:-0500
TZNAME:EST
DTSTART:20251102T060000
END:STANDARD
BEGIN:DAYLIGHT
TZOFFSETFROM:-0500
TZOFFSETTO:-0400
TZNAME:EDT
DTSTART:20260308T070000
END:DAYLIGHT
BEGIN:STANDARD
TZOFFSETFROM:-0400
TZOFFSETTO:-0500
TZNAME:EST
DTSTART:20261101T060000
END:STANDARD
BEGIN:DAYLIGHT
TZOFFSETFROM:-0500
TZOFFSETTO:-0400
TZNAME:EDT
DTSTART:20270314T070000
END:DAYLIGHT
BEGIN:STANDARD
TZOFFSETFROM:-0400
TZOFFSETTO:-0500
TZNAME:EST
DTSTART:20271107T060000
END:STANDARD
END:VTIMEZONE
BEGIN:VEVENT
DTSTART;TZID=America/New_York:20260506T190000
DTEND;TZID=America/New_York:20260506T203000
DTSTAMP:20260419T171201
CREATED:20260305T065237Z
LAST-MODIFIED:20260329T111031Z
UID:10003576-1778094000-1778099400@www.bethiaumc.org
SUMMARY:STEM Venture Crew Troop 2822 Planning Meeting / In Person / Room 103 & 105
DESCRIPTION:
URL:https://www.bethiaumc.org/event/stem-venture-crew-troop-2822-planning-meeting-in-person-room-103-105-36/
LOCATION:10700 Winterpock Rd\, Chesterfield\, VA\, United States
GEO:37.392683;-77.605362
END:VEVENT
BEGIN:VEVENT
DTSTART;TZID=America/New_York:20260506T190000
DTEND;TZID=America/New_York:20260506T203000
DTSTAMP:20260419T171201
CREATED:20260305T065237Z
LAST-MODIFIED:20260329T111031Z
UID:10003577-1778094000-1778099400@www.bethiaumc.org
SUMMARY:AL-ANON / In Person / Room 215
DESCRIPTION:
URL:https://www.bethiaumc.org/event/al-anon-in-person-room-215-64/
LOCATION:10700 Winterpock Rd\, Chesterfield\, VA\, United States
GEO:37.392683;-77.605362
END:VEVENT
BEGIN:VEVENT
DTSTART;TZID=America/New_York:20260507T080000
DTEND;TZID=America/New_York:20260507T130000
DTSTAMP:20260419T171201
CREATED:20260305T065237Z
LAST-MODIFIED:20260329T111031Z
UID:10003578-1778140800-1778158800@www.bethiaumc.org
SUMMARY:Cedar Woods Montessori School / In Person / Room 219
DESCRIPTION:
URL:https://www.bethiaumc.org/event/cedar-woods-montessori-school-in-person-room-219-80/
LOCATION:10700 Winterpock Rd\, Chesterfield\, VA\, United States
GEO:37.392683;-77.605362
END:VEVENT
BEGIN:VEVENT
DTSTART;TZID=America/New_York:20260507T093000
DTEND;TZID=America/New_York:20260507T113000
DTSTAMP:20260419T171201
CREATED:20260305T065237Z
LAST-MODIFIED:20260329T111032Z
UID:10003579-1778146200-1778153400@www.bethiaumc.org
SUMMARY:Bible Study / In Person / Room 103
DESCRIPTION:
URL:https://www.bethiaumc.org/event/bible-study-in-person-room-103-119/
LOCATION:10700 Winterpock Rd\, Chesterfield\, VA\, United States
GEO:37.392683;-77.605362
END:VEVENT
BEGIN:VEVENT
DTSTART;TZID=America/New_York:20260507T173000
DTEND;TZID=America/New_York:20260507T203000
DTSTAMP:20260419T171201
CREATED:20260306T065552Z
LAST-MODIFIED:20260329T111032Z
UID:10003580-1778175000-1778185800@www.bethiaumc.org
SUMMARY:Focus Sports / In Person / SEED Hall
DESCRIPTION:
URL:https://www.bethiaumc.org/event/focus-sports-in-person-seed-hall-313/
LOCATION:10700 Winterpock Rd\, Chesterfield\, VA\, United States
GEO:37.392683;-77.605362
END:VEVENT
BEGIN:VEVENT
DTSTART;TZID=America/New_York:20260508T080000
DTEND;TZID=America/New_York:20260508T113000
DTSTAMP:20260419T171201
CREATED:20260306T065552Z
LAST-MODIFIED:20260329T111032Z
UID:10003582-1778227200-1778239800@www.bethiaumc.org
SUMMARY:Pickleball / In Person / SEED Hall
DESCRIPTION:
URL:https://www.bethiaumc.org/event/pickleball-in-person-seed-hall-382/
LOCATION:10700 Winterpock Rd\, Chesterfield\, VA\, United States
GEO:37.392683;-77.605362
END:VEVENT
BEGIN:VEVENT
DTSTART;TZID=America/New_York:20260508T080000
DTEND;TZID=America/New_York:20260508T130000
DTSTAMP:20260419T171201
CREATED:20260306T065552Z
LAST-MODIFIED:20260329T111032Z
UID:10003581-1778227200-1778245200@www.bethiaumc.org
SUMMARY:Cedar Woods Montessori School / In Person / Room 219
DESCRIPTION:
URL:https://www.bethiaumc.org/event/cedar-woods-montessori-school-in-person-room-219-81/
LOCATION:10700 Winterpock Rd\, Chesterfield\, VA\, United States
GEO:37.392683;-77.605362
END:VEVENT
BEGIN:VEVENT
DTSTART;TZID=America/New_York:20260508T173000
DTEND;TZID=America/New_York:20260508T203000
DTSTAMP:20260419T171201
CREATED:20260307T070710Z
LAST-MODIFIED:20260329T111032Z
UID:10003583-1778261400-1778272200@www.bethiaumc.org
SUMMARY:Focus Sports League / In Person / SEED Hall
DESCRIPTION:
URL:https://www.bethiaumc.org/event/focus-sports-league-in-person-seed-hall-16/
LOCATION:10700 Winterpock Rd\, Chesterfield\, VA\, United States
GEO:37.392683;-77.605362
END:VEVENT
BEGIN:VEVENT
DTSTART;TZID=America/New_York:20260510T090000
DTEND;TZID=America/New_York:20260510T094500
DTSTAMP:20260419T171201
CREATED:20260307T070711Z
LAST-MODIFIED:20260329T111033Z
UID:10003584-1778403600-1778406300@www.bethiaumc.org
SUMMARY:Children's Sunday School / In Person / Rooms 218-219
DESCRIPTION:
URL:https://www.bethiaumc.org/event/childrens-sunday-school-in-person-rooms-218-219-136/
LOCATION:10700 Winterpock Rd\, Chesterfield\, VA\, United States
GEO:37.392683;-77.605362
END:VEVENT
BEGIN:VEVENT
DTSTART;TZID=America/New_York:20260510T090000
DTEND;TZID=America/New_York:20260510T094500
DTSTAMP:20260419T171201
CREATED:20260307T070711Z
LAST-MODIFIED:20260329T111032Z
UID:10003585-1778403600-1778406300@www.bethiaumc.org
SUMMARY:SALT Adult Sunday School / In Person / Room 103
DESCRIPTION:
URL:https://www.bethiaumc.org/event/salt-adult-sunday-school-in-person-room-103-128/
LOCATION:10700 Winterpock Rd\, Chesterfield\, VA\, United States
GEO:37.392683;-77.605362
END:VEVENT
BEGIN:VEVENT
DTSTART;TZID=America/New_York:20260510T090000
DTEND;TZID=America/New_York:20260510T094500
DTSTAMP:20260419T171201
CREATED:20260308T072151Z
LAST-MODIFIED:20260329T111032Z
UID:10003586-1778403600-1778406300@www.bethiaumc.org
SUMMARY:Adult Sunday School w/ David Jones / In Person / Room 1
DESCRIPTION:
URL:https://www.bethiaumc.org/event/adult-sunday-school-w-david-jones-in-person-room-1-128/
LOCATION:10700 Winterpock Rd\, Chesterfield\, VA\, United States
GEO:37.392683;-77.605362
END:VEVENT
BEGIN:VEVENT
DTSTART;TZID=America/New_York:20260510T090000
DTEND;TZID=America/New_York:20260510T094500
DTSTAMP:20260419T171201
CREATED:20260308T072151Z
LAST-MODIFIED:20260329T111032Z
UID:10003587-1778403600-1778406300@www.bethiaumc.org
SUMMARY:GYM Adult Sunday School Class / In Person / SEED Hall
DESCRIPTION:
URL:https://www.bethiaumc.org/event/gym-adult-sunday-school-class-in-person-seed-hall-127/
LOCATION:10700 Winterpock Rd\, Chesterfield\, VA\, United States
GEO:37.392683;-77.605362
END:VEVENT
BEGIN:VEVENT
DTSTART;TZID=America/New_York:20260510T090000
DTEND;TZID=America/New_York:20260510T094500
DTSTAMP:20260419T171201
CREATED:20260308T072151Z
LAST-MODIFIED:20260329T111032Z
UID:10003588-1778403600-1778406300@www.bethiaumc.org
SUMMARY:Youth Sunday School (MS and HS) / In Person / Bistro
DESCRIPTION:
URL:https://www.bethiaumc.org/event/youth-sunday-school-ms-and-hs-in-person-bistro-135/
LOCATION:10700 Winterpock Rd\, Chesterfield\, VA\, United States
GEO:37.392683;-77.605362
END:VEVENT
BEGIN:VEVENT
DTSTART;TZID=America/New_York:20260510T090000
DTEND;TZID=America/New_York:20260510T094500
DTSTAMP:20260419T171201
CREATED:20260309T072234Z
LAST-MODIFIED:20260329T111032Z
UID:10003589-1778403600-1778406300@www.bethiaumc.org
SUMMARY:Preschool Sunday School / In Person / Rooms 105
DESCRIPTION:
URL:https://www.bethiaumc.org/event/preschool-sunday-school-in-person-rooms-105-41/
LOCATION:10700 Winterpock Rd\, Chesterfield\, VA\, United States
GEO:37.392683;-77.605362
END:VEVENT
BEGIN:VEVENT
DTSTART;TZID=America/New_York:20260510T100000
DTEND;TZID=America/New_York:20260510T110000
DTSTAMP:20260419T171201
CREATED:20260309T072235Z
LAST-MODIFIED:20260329T111033Z
UID:10003590-1778407200-1778410800@www.bethiaumc.org
SUMMARY:10 am Sunday Worship / In Person / Sanctuary
DESCRIPTION:
URL:https://www.bethiaumc.org/event/10-am-sunday-worship-in-person-sanctuary-33/
LOCATION:10700 Winterpock Rd\, Chesterfield\, VA\, United States
GEO:37.392683;-77.605362
END:VEVENT
BEGIN:VEVENT
DTSTART;TZID=America/New_York:20260510T160000
DTEND;TZID=America/New_York:20260510T173000
DTSTAMP:20260419T171201
CREATED:20260309T072235Z
LAST-MODIFIED:20260329T111033Z
UID:10003591-1778428800-1778434200@www.bethiaumc.org
SUMMARY:Youth Group / In Person / SEED Hall & Room 103
DESCRIPTION:
URL:https://www.bethiaumc.org/event/youth-group-in-person-seed-hall-room-103-111/
LOCATION:10700 Winterpock Rd\, Chesterfield\, VA\, United States
GEO:37.392683;-77.605362
END:VEVENT
BEGIN:VEVENT
DTSTART;TZID=America/New_York:20260510T190000
DTEND;TZID=America/New_York:20260510T203000
DTSTAMP:20260419T171201
CREATED:20260309T072235Z
LAST-MODIFIED:20260329T111033Z
UID:10003592-1778439600-1778445000@www.bethiaumc.org
SUMMARY:AL-ANON / In Person / Room 103
DESCRIPTION:
URL:https://www.bethiaumc.org/event/al-anon-in-person-room-103-69/
LOCATION:10700 Winterpock Rd\, Chesterfield\, VA\, United States
GEO:37.392683;-77.605362
END:VEVENT
BEGIN:VEVENT
DTSTART;TZID=America/New_York:20260511T080000
DTEND;TZID=America/New_York:20260511T113000
DTSTAMP:20260419T171201
CREATED:20260309T072235Z
LAST-MODIFIED:20260329T111033Z
UID:10003594-1778486400-1778499000@www.bethiaumc.org
SUMMARY:Pickleball / In Person / SEED Hall
DESCRIPTION:
URL:https://www.bethiaumc.org/event/pickleball-in-person-seed-hall-383/
LOCATION:10700 Winterpock Rd\, Chesterfield\, VA\, United States
GEO:37.392683;-77.605362
END:VEVENT
BEGIN:VEVENT
DTSTART;TZID=America/New_York:20260511T080000
DTEND;TZID=America/New_York:20260511T130000
DTSTAMP:20260419T171201
CREATED:20260309T072236Z
LAST-MODIFIED:20260329T111033Z
UID:10003595-1778486400-1778504400@www.bethiaumc.org
SUMMARY:Cedar Woods Montessori School / In Person / Room 219
DESCRIPTION:
URL:https://www.bethiaumc.org/event/cedar-woods-montessori-school-in-person-room-219-82/
LOCATION:10700 Winterpock Rd\, Chesterfield\, VA\, United States
GEO:37.392683;-77.605362
END:VEVENT
BEGIN:VEVENT
DTSTART;TZID=America/New_York:20260511T100000
DTEND;TZID=America/New_York:20260511T130000
DTSTAMP:20260419T171201
CREATED:20260309T072235Z
LAST-MODIFIED:20260329T111033Z
UID:10003593-1778493600-1778504400@www.bethiaumc.org
SUMMARY:Lay Leader and Staff Meeting / In Person / Bethia House
DESCRIPTION:
URL:https://www.bethiaumc.org/event/lay-leader-and-staff-meeting-in-person-bethia-house-28/
LOCATION:14512 Beach Rd\, Chesterfield\, VA\, United States
GEO:37.333271;-77.634265
END:VEVENT
BEGIN:VEVENT
DTSTART;TZID=America/New_York:20260511T170000
DTEND;TZID=America/New_York:20260511T180000
DTSTAMP:20260419T171202
CREATED:20260309T072236Z
LAST-MODIFIED:20260329T111033Z
UID:10003596-1778518800-1778522400@www.bethiaumc.org
SUMMARY:Ignite Performance Youth Sports Development / In Person / SEED Hall
DESCRIPTION:
URL:https://www.bethiaumc.org/event/ignite-performance-youth-sports-development-in-person-seed-hall-17/
LOCATION:10700 Winterpock Rd\, Chesterfield\, VA\, United States
GEO:37.392683;-77.605362
END:VEVENT
BEGIN:VEVENT
DTSTART;TZID=America/New_York:20260511T180000
DTEND;TZID=America/New_York:20260511T203000
DTSTAMP:20260419T171202
CREATED:20260310T073938Z
LAST-MODIFIED:20260329T111033Z
UID:10003598-1778522400-1778531400@www.bethiaumc.org
SUMMARY:Boy Scout Troop 2806 / In Person / Sanctuary
DESCRIPTION:
URL:https://www.bethiaumc.org/event/boy-scout-troop-2806-in-person-sanctuary-15/
LOCATION:10700 Winterpock Rd\, Chesterfield\, VA\, United States
GEO:37.392683;-77.605362
END:VEVENT
BEGIN:VEVENT
DTSTART;TZID=America/New_York:20260511T183000
DTEND;TZID=America/New_York:20260511T193000
DTSTAMP:20260419T171202
CREATED:20260310T073938Z
LAST-MODIFIED:20260329T111033Z
UID:10003597-1778524200-1778527800@www.bethiaumc.org
SUMMARY:Cub Scout Pack 2822 / In Person / SEED Hall
DESCRIPTION:
URL:https://www.bethiaumc.org/event/cub-scout-pack-2822-in-person-seed-hall-5/
LOCATION:10700 Winterpock Rd\, Chesterfield\, VA\, United States
GEO:37.392683;-77.605362
END:VEVENT
BEGIN:VEVENT
DTSTART;TZID=America/New_York:20260512T080000
DTEND;TZID=America/New_York:20260512T130000
DTSTAMP:20260419T171202
CREATED:20260310T073938Z
LAST-MODIFIED:20260329T111033Z
UID:10003599-1778572800-1778590800@www.bethiaumc.org
SUMMARY:Cedar Woods Montessori School / In Person / Room 219
DESCRIPTION:
URL:https://www.bethiaumc.org/event/cedar-woods-montessori-school-in-person-room-219-83/
LOCATION:10700 Winterpock Rd\, Chesterfield\, VA\, United States
GEO:37.392683;-77.605362
END:VEVENT
BEGIN:VEVENT
DTSTART;TZID=America/New_York:20260512T100000
DTEND;TZID=America/New_York:20260512T113000
DTSTAMP:20260419T171202
CREATED:20260310T073938Z
LAST-MODIFIED:20260329T111033Z
UID:10003600-1778580000-1778585400@www.bethiaumc.org
SUMMARY:UWinFaith Marian Berry Circle / In Person / Room 103
DESCRIPTION:
URL:https://www.bethiaumc.org/event/uwinfaith-marian-berry-circle-in-person-room-103-27/
LOCATION:10700 Winterpock Rd\, Chesterfield\, VA\, United States
GEO:37.392683;-77.605362
END:VEVENT
BEGIN:VEVENT
DTSTART;TZID=America/New_York:20260512T173000
DTEND;TZID=America/New_York:20260512T190000
DTSTAMP:20260419T171202
CREATED:20260310T073939Z
LAST-MODIFIED:20260329T111033Z
UID:10003602-1778607000-1778612400@www.bethiaumc.org
SUMMARY:Focus Sports / In Person / SEED Hall
DESCRIPTION:
URL:https://www.bethiaumc.org/event/focus-sports-in-person-seed-hall-314/
LOCATION:10700 Winterpock Rd\, Chesterfield\, VA\, United States
GEO:37.392683;-77.605362
END:VEVENT
BEGIN:VEVENT
DTSTART;TZID=America/New_York:20260512T183000
DTEND;TZID=America/New_York:20260512T200000
DTSTAMP:20260419T171202
CREATED:20260310T073939Z
LAST-MODIFIED:20260329T111034Z
UID:10003603-1778610600-1778616000@www.bethiaumc.org
SUMMARY:Church Council Meeting / In Person / Room 103
DESCRIPTION:
URL:https://www.bethiaumc.org/event/church-council-meeting-in-person-room-103-34/
LOCATION:10700 Winterpock Rd\, Chesterfield\, VA\, United States
GEO:37.392683;-77.605362
END:VEVENT
BEGIN:VEVENT
DTSTART;TZID=America/New_York:20260512T190000
DTEND;TZID=America/New_York:20260512T220000
DTSTAMP:20260419T171202
CREATED:20260310T073938Z
LAST-MODIFIED:20260329T111034Z
UID:10003601-1778612400-1778623200@www.bethiaumc.org
SUMMARY:Basketball Open Gym / In Person / SEED Hall
DESCRIPTION:
URL:https://www.bethiaumc.org/event/basketball-open-gym-in-person-seed-hall-117/
LOCATION:10700 Winterpock Rd\, Chesterfield\, VA\, United States
GEO:37.392683;-77.605362
END:VEVENT
BEGIN:VEVENT
DTSTART;TZID=America/New_York:20260513T080000
DTEND;TZID=America/New_York:20260513T113000
DTSTAMP:20260419T171202
CREATED:20260311T074048Z
LAST-MODIFIED:20260329T111034Z
UID:10003606-1778659200-1778671800@www.bethiaumc.org
SUMMARY:Pickleball / In Person / SEED Hall
DESCRIPTION:
URL:https://www.bethiaumc.org/event/pickleball-in-person-seed-hall-384/
LOCATION:10700 Winterpock Rd\, Chesterfield\, VA\, United States
GEO:37.392683;-77.605362
END:VEVENT
BEGIN:VEVENT
DTSTART;TZID=America/New_York:20260513T080000
DTEND;TZID=America/New_York:20260513T130000
DTSTAMP:20260419T171202
CREATED:20260311T074048Z
LAST-MODIFIED:20260329T111034Z
UID:10003604-1778659200-1778677200@www.bethiaumc.org
SUMMARY:Cedar Woods Montessori School / In Person / Room 219
DESCRIPTION:
URL:https://www.bethiaumc.org/event/cedar-woods-montessori-school-in-person-room-219-84/
LOCATION:10700 Winterpock Rd\, Chesterfield\, VA\, United States
GEO:37.392683;-77.605362
END:VEVENT
END:VCALENDAR